BEGIN:VCALENDAR
VERSION:2.0
PRODID:-//ChamberMaster//Event Calendar 2.0//EN
METHOD:PUBLISH
X-PUBLISHED-TTL:P3D
REFRESH-INTERVAL:P3D
CALSCALE:GREGORIAN
BEGIN:VEVENT
DTSTART:20201216T040000Z
DTEND:20201216T050000Z
X-MICROSOFT-CDO-ALLDAYEVENT:FALSE
SUMMARY:Legal Committee Planning Meeting: Year End 2020
DESCRIPTION:You are cordially invited and encouraged to attend the AMCHAM's Legal Committee's planning meeting for the Year End of 2020. Your input is wanted and needed. \n\n\n\nThe leadership of the Legal Committee wants to know what sort of program you would like to see from the committee in 2021. With that goal in mind\, the committee leadership both encourages you to participate in the planning committee and submit ideas for programs and events to the committee leadership via email at tk@amchamthailand.com\n\n\n\nIf you plan on attending\, please be sure to register online.
X-ALT-DESC;FMTTYPE=text/html:You are cordially invited and encouraged to attend the AMCHAM&#39\;s Legal Committee&#39\;s planning meeting for the Year End of 2020. Your input is wanted and needed.&nbsp\;<br />\n<br />\nThe leadership of the Legal Committee wants to know what sort of program you would like to see from the committee in 2021. With that goal in mind\, the committee leadership both encourages you to participate in the planning committee and submit ideas for programs and events to the committee leadership via email at tk@amchamthailand.com<br />\n<br />\nIf you plan on attending\, please be sure to register online.
LOCATION:Video conference
UID:e.3314.1805
SEQUENCE:3
DTSTAMP:20260422T093618Z
URL:https://connect.amchamthailand.com/events/details/legal-committee-planning-meeting-year-end-2020-1805
END:VEVENT

END:VCALENDAR
