BEGIN:VCALENDAR
VERSION:2.0
PRODID:-//ChamberMaster//Event Calendar 2.0//EN
METHOD:PUBLISH
X-PUBLISHED-TTL:P3D
REFRESH-INTERVAL:P3D
CALSCALE:GREGORIAN
BEGIN:VEVENT
DTSTART:20181018T020000Z
DTEND:20181018T150000Z
X-MICROSOFT-CDO-ALLDAYEVENT:FALSE
SUMMARY:Joint OSAC/Security: Security Threats in a Connected Region
DESCRIPTION:REGISTER NOW\n\n\n\n"Security Threats in a Connected Region."\n\n\n\nASIS Thailand Chapter\, TAPA and OSAC are excited to partner in organizing "Security Event 2018 - Security Threats in a Connected Region\," bringing together security professionals from around the region.\n\n	An exciting line-up of speakers and trending industry topics.\n	Discussions and debate on the latest security threats in the region.\n	A panel of local and international law enforcement officials.\n	An opportunity to network with peers and like-minded people.\n	Attendees will receive six CPE credits for attending this event.\n\nSpecial Guest Speakers\n\n\n\nPol. Gen. Tamasak Wicharsya PhD - Advisor (Security 1)\, Royal Thai Police\n\nPeter Stenlund - General Manager\, ASSA ABLOY Logistic Security\n\nChristopher Mosby - Snr. Security Consultant\, CIO\, Movaci\n\nWill Vacher - Founder\, Information Assurance Platform
X-ALT-DESC;FMTTYPE=text/html:<br />\n<strong><a href="https://www.eventbrite.com/e/asis-thailand-chapter-security-event-2018-tickets-47986300316"><span style="font-size:14px\;">REGISTER NOW</span></a><br />\n<br />\n&quot\;Security Threats in a Connected Region.&rdquo\;</strong><br />\n<br />\nASIS Thailand Chapter\, TAPA and OSAC are excited to partner in organizing &quot\;Security Event 2018 -&nbsp\;Security Threats in a Connected Region\,&quot\; bringing together security professionals from around the region.\n<ul>\n	<li>An exciting line-up of speakers and trending industry topics.</li>\n	<li>Discussions and debate on the latest security threats in the region.</li>\n	<li>A panel of local and international law enforcement officials.</li>\n	<li>An opportunity to network with peers and like-minded people.</li>\n	<li>Attendees will receive six CPE credits for attending this event.</li>\n</ul>\nSpecial Guest Speakers<br />\n<br />\n<strong>Pol. Gen. Tamasak&nbsp\;Wicharsya&nbsp\;PhD</strong>&nbsp\;-&nbsp\;Advisor&nbsp\;(Security 1)\, Royal Thai Police<br />\n<strong>Peter Stenlund&nbsp\;</strong>- General Manager\, ASSA&nbsp\;ABLOY&nbsp\;Logistic Security<br />\n<strong>Christopher Mosby</strong>&nbsp\;-&nbsp\;Snr. Security&nbsp\;Consultant\, CIO\, Movaci<br />\n<strong>Will Vacher</strong>&nbsp\;- Founder\, Information Assurance Platform
LOCATION:The Bangkok Marriott Marquis Queen's Park Hotel BTS: Phrom Phong. Parking is complimentary at the hotel.
UID:e.3314.63
SEQUENCE:3
DTSTAMP:20260424T061928Z
URL:https://connect.amchamthailand.com/events/details/joint-osac-security-security-threats-in-a-connected-region-63
END:VEVENT

END:VCALENDAR
