BEGIN:VCALENDAR
VERSION:2.0
PRODID:-//ChamberMaster//Event Calendar 2.0//EN
METHOD:PUBLISH
X-PUBLISHED-TTL:P3D
REFRESH-INTERVAL:P3D
CALSCALE:GREGORIAN
BEGIN:VEVENT
DTSTART:20190904T103000Z
DTEND:20190904T123000Z
X-MICROSOFT-CDO-ALLDAYEVENT:FALSE
SUMMARY:Joint Legal and SME Committee: TM.30\, Visas and Work Permits
DESCRIPTION:Please note that the venue has changed to the Rembrandt Hotel & Suites Bangkok.\n\n\n\nPanelists from AMCHAM Thailand member law firms will discuss their views on the current TM.30 situation as well as update attendees on recent trends and updates on visa and work permit issues. Please join this joint event hosted by the AMCHAM Thailand Legal and SME committees on Wednesday\, September 4\, 2019 at The Rembrandt Hotel & Suites Bangkok.\n\n\n\nOur speakers:\n\nPenrurk Phetmani\, specializes in corporate services and immigration\, including work permits\, visas\, permanent residence issues\, licenses to operate businesses in Thailand\, and general corporate matters. \n\n\n\nKowit Somwaiya is the founder and managing partner of LawPlus and LawPlus Myanmar. He has over 30 years' experiences in laws on banking and finance\, corporate and M&A\, foreign direct investment\, intellectual property\, IT\, telecoms\, dispute resolution and litigation.\n\n\n\nOpen networking and registration begin at 5:30 p.m. followed by the program (over dinner) and Q&A.
X-ALT-DESC;FMTTYPE=text/html:<span style="float: none\; background-color: rgb(255\, 255\, 255)\; color: rgb(51\, 51\, 51)\; cursor: text\; font-family: sans-serif\, Arial\, Verdana\, &quot\;Trebuchet MS&quot\;\; font-size: 13px\; font-variant: normal\; font-weight: 400\; letter-spacing: normal\; line-height: 1.6\; orphans: 2\; text-align: left\; text-decoration: none\; text-indent: 0px\; text-transform: none\; -webkit-text-stroke-width: 0px\; white-space: normal\; word-spacing: 0px\; display: inline !important\;"><em><strong>Please note that the venue has changed to the Rembrandt Hotel &amp\; Suites Bangkok.</strong></em><br />\n<br />\nPanelists from AMCHAM Thailand member law firms will discuss their views on the current TM.30 situation as well as update attendees on recent trends and updates on visa and work permit issues. </span>Please join this joint event hosted by the AMCHAM Thailand Legal and SME committees on Wednesday\, September 4\, 2019 at The Rembrandt Hotel &amp\; Suites Bangkok.<br />\n<br />\n<strong>Our speakers:</strong><br />\n<a href="https://www.tilleke.com/professionals/penrurk">Penrurk Phetmani</a>\, specializes in corporate services and immigration\, including work permits\, visas\, permanent residence issues\, licenses to operate businesses in Thailand\, and general corporate matters.&nbsp\;<br />\n<br />\n<a href="https://www.lawplusltd.com/people/kowit-somwaiya/">Kowit Somwaiya</a> is the founder and managing partner of LawPlus and LawPlus Myanmar. He has over 30 years&rsquo\; experiences in laws on banking and finance\, corporate and M&amp\;A\, foreign direct investment\, intellectual property\, IT\, telecoms\, dispute resolution and litigation.<br />\n<br />\nOpen networking and registration begin at 5:30 p.m. followed by the program (over dinner) and Q&amp\;A.
LOCATION:The Rembrandt Hotel Bangkok. BTS Asoke\, Sukhumvit Soi 18
UID:e.3314.379
SEQUENCE:3
DTSTAMP:20260423T103548Z
URL:https://connect.amchamthailand.com/events/details/joint-legal-and-sme-committee-tm-30-visas-and-work-permits-379
END:VEVENT

END:VCALENDAR
