BEGIN:VCALENDAR
VERSION:2.0
PRODID:-//ChamberMaster//Event Calendar 2.0//EN
METHOD:PUBLISH
X-PUBLISHED-TTL:P3D
REFRESH-INTERVAL:P3D
CALSCALE:GREGORIAN
BEGIN:VEVENT
DTSTART:20210318T020000Z
DTEND:20210318T030000Z
X-MICROSOFT-CDO-ALLDAYEVENT:FALSE
SUMMARY:Joint HR & SBE Committee: Employee Wellness vs. The Pandemic: A Company's Guide
DESCRIPTION:Covid-19 has undeniably changed the work environment indefinitely. Whilst short-term measures have been put in place by many\, companies have now adopted these as a more permanent work model. However\, these work models must go beyond Work From Home (WFH). Challenges for companies are now on optimizing employee productivity as well as managing physical and mental health.\n\n\n \n\nThe AMCHAM SBE and HR committees are pleased to welcome Dr. Chatchai Yachantha\, Senior Director\, Patient Experience\, Bumrungrad International\; Orapin Musiknavabutr\, Group Director of People & Culture\, Anantara Vacation Club\; and Unyarat Pornprakit: CEO\, Jubilee Diamond\, to share their experiences and perspectives. Join this event to gain some insights from front-line businesses to see how they have been managing wellness through the pandemic.\n\n \nOur Speakers:\n\n\n\nChatchai (Arthur) Yachantha: Senior Director\, Patient Experience\, Bumrungrad International\n\nWorkplace Safety and re-connecting staff: Lessons from Quarantine programs\n\nUnyarat Pornprakit: CEO\, Jubilee Diamond\n\nOrapin Musiknavabutr: Group Director of People & Culture\, Anantara Vacation Club
X-ALT-DESC;FMTTYPE=text/html:<div>Covid-19 has undeniably changed the work environment indefinitely. Whilst short-term measures have been put in place by many\, companies have now adopted these as a more permanent work model. However\, these work models must go beyond Work From Home (WFH). Challenges for companies are now on optimizing employee productivity as well as managing physical and mental health.</div>\n\n<div>\n<div>&nbsp\;</div>\n\n<div>The AMCHAM SBE and HR committees are pleased to welcome Dr. Chatchai Yachantha\, Senior Director\, Patient Experience\, Bumrungrad International\; Orapin Musiknavabutr\, Group Director of People &amp\; Culture\, Anantara Vacation Club\; and Unyarat Pornprakit: CEO\, Jubilee Diamond\, to share their experiences and perspectives. Join this event to gain some insights from front-line businesses to see how they have been managing wellness through the pandemic.<br />\n&nbsp\;\n<div><strong>Our Speakers:</strong></div>\n\n<div>\n<div>\n<div><a href="https://www.linkedin.com/in/dr-chatchai-arthur-yachantha-b8341938/">Chatchai (Arthur) Yachantha</a>: Senior Director\, Patient Experience\, Bumrungrad International<br />\nWorkplace Safety and re-connecting staff: Lessons from Quarantine programs<br />\n<a href="https://www.linkedin.com/in/unyarat-pornprakit-3a412628/">Unyarat Pornpraki</a>t: CEO\, Jubilee Diamond<br />\n<a href="https://www.linkedin.com/in/orapinmusiknavabutr/">Orapin Musiknavabutr</a>: Group Director of People &amp\; Culture\, Anantara Vacation Club</div>\n</div>\n</div>\n</div>\n</div>\n
LOCATION:Webinar
UID:e.3314.1851
SEQUENCE:3
DTSTAMP:20260422T045307Z
URL:https://connect.amchamthailand.com/events/details/joint-hr-sbe-committee-employee-wellness-vs-the-pandemic-a-company-s-guide-1851
END:VEVENT

END:VCALENDAR
