BEGIN:VCALENDAR
VERSION:2.0
PRODID:-//ChamberMaster//Event Calendar 2.0//EN
METHOD:PUBLISH
X-PUBLISHED-TTL:P3D
REFRESH-INTERVAL:P3D
CALSCALE:GREGORIAN
BEGIN:VEVENT
DTSTART:20190321T073000Z
DTEND:20190321T100000Z
X-MICROSOFT-CDO-ALLDAYEVENT:FALSE
SUMMARY:Joint HR - Legal Committee: What to do when they won't leave easily - terminations and other tricky aspects of Thai labor law
DESCRIPTION:Don't be caught unaware - labor law has major implications for your organization. Not only can it be tricky\, it is also constantly evolving.The National Legislative Assembly has recently passed important changes to Thailand's Labor Protection Act.\n\n\n\nJoin this AMCHAM panel discussion to learn more about what's new in Thai labor law and join the conversation as we tackle some of the more challenging employment situations organizations face in Thailand.\n\n\n\nPanelists:\n\n\n	Komson Suntheeraporn\, DLA Piper. Komson is experienced in all aspects of commercial dispute resolution\, employment and restructuring. He has extensive experience advising on a broad range of employment related issues\, both contentious and non-contentious. He regularly represents clients in labor court proceedings\, advising on work rules and regulations and providing day-to-day labor and employment advice. \n	Ratthai Kamolwarin\, Chandler MHM Limited. Ratthai has served a number of Thai and international clients in labor and employment matters for many years. He has given guest lectures in labor law at Thai universities\, and has spoken on this topic previously at AMCHAM.\n	Duangporn (Pam) Boosarawongse\, DKSH Thailand (Ltd.). Pam joined DKSH this year and has previously worked in regional HR leadership roles with ONYX Hospitality Group\, Stanley Black & Decker\, Beiersdorf and British American Tobacco. \n\n\n\nRegistration opens at 2:30 pm\, with an opportunity for networking and coffee prior to the panel discussion at 3 pm.
X-ALT-DESC;FMTTYPE=text/html:<span style="font-size:14px\;"><span style="font-family:arial\,helvetica neue\,helvetica\,sans-serif">Don&#39\;t be caught unaware - labor law has major implications for your organization. Not only can it be tricky\, it is also constantly evolving.The National Legislative Assembly has recently passed important changes to Thailand&#39\;s Labor Protection Act.</span><br />\n<br />\n<span style="font-family:arial\;">Join this AMCHAM panel discussion to learn more about what&#39\;s new in Thai labor law and join the conversation as we tackle some of the more challenging employment situations organizations face in Thailand.</span></span><br />\n<br />\n<strong><span style="font-size:14px\;"><span style="font-family:arial\;">Panelists:</span></span></strong>\n\n<ul>\n	<li><span style="font-size:14px\;"><span style="font-family:arial\;"><a href="https://www.dlapiper.com/en/thailand/people/s/suntheeraporn-komson/">Komson Suntheeraporn<font color="#001000">\,</font></a>&nbsp\;</span></span><span style="font-family: arial\, &quot\;helvetica neue&quot\;\, helvetica\, sans-serif\; font-size: 14px\;">DLA Piper. Komson is experienced in all aspects&nbsp\;of commercial dispute resolution\, employment and restructuring. He has extensive experience advising on a broad range of employment related issues\, both contentious and non-contentious. He regularly represents clients in labor court proceedings\, advising on work rules and regulations and providing day-to-day labor and employment advice.&nbsp\;</span></li>\n	<li><span style="font-size:14px\;"><span style="font-family:arial\;"><a href="https://www.chandlermhm.com/portfolio/associates/ratthai_kamolwarin">Ratthai Kamolwarin</a>\, Chandler MHM Limited. </span></span><span style="font-family: arial\, &quot\;helvetica neue&quot\;\, helvetica\, sans-serif\; font-size: 14px\;">Ratthai has served a number of Thai and international clients in labor and employment matters for many years. He has given guest lectures in labor law at Thai universities\, and has spoken on this topic previously at AMCHAM.</span></li>\n	<li><span style="font-size:14px\;"><span style="font-family:arial\;"><a href="https://www.linkedin.com/in/duangporn-pam-boosarawongse-b2190315/">Duangporn (Pam) Boosarawongse</a>\, </span></span><span style="font-family: arial\, &quot\;helvetica neue&quot\;\, helvetica\, sans-serif\; font-size: 14px\;">DKSH Thailand (Ltd.). Pam joined DKSH this year and has&nbsp\;previously worked in regional HR leadership roles with ONYX Hospitality Group\, Stanley Black &amp\; Decker\, Beiersdorf and British American Tobacco.</span><span style="font-size:14px\;"><span style="font-family:arial\;"> </span></span></li>\n</ul>\n<br />\n<span style="font-family: arial\, &quot\;helvetica neue&quot\;\, helvetica\, sans-serif\; font-size: 14px\;">Registration opens at 2:30 pm\, with an opportunity for networking and coffee prior to the panel discussion at 3 pm.</span>
LOCATION:Radisson Blu Plaza Bangkok\, Nearest BTS: Asoke Station Nearest MRT: Sukhumvit Station
UID:e.3314.126
SEQUENCE:3
DTSTAMP:20260423T222659Z
URL:https://connect.amchamthailand.com/events/details/joint-hr-legal-committee-what-to-do-when-they-won-t-leave-easily-terminations-and-other-tricky-aspects-of-thai-labor-law-126
END:VEVENT

END:VCALENDAR
