BEGIN:VCALENDAR
VERSION:2.0
PRODID:-//ChamberMaster//Event Calendar 2.0//EN
METHOD:PUBLISH
X-PUBLISHED-TTL:P3D
REFRESH-INTERVAL:P3D
CALSCALE:GREGORIAN
BEGIN:VEVENT
DTSTART:20190918T073000Z
DTEND:20190918T103000Z
X-MICROSOFT-CDO-ALLDAYEVENT:FALSE
SUMMARY:Joint HR and CSR Committee: Managing Diversity and Inclusion in Times of Disruption
DESCRIPTION:The business case for diversity and inclusion is overwhelming\, and yet we live in a time of seemingly increasing polarization. How do we build a business environment where diversity and inclusion transcend traditional categories like gender\, ability and ethnicity? Join us for an invigorating discussion and lots of sharing of ideas\, perspectives and experiences.\n\n\n\nThe program will launch with intensive timed discussions designed to provoke thought and allow you to interact with all participants. Our speakers will then present in more detail on these topics\, followed by an interactive Q&A session.\n\n \n\nOur Speakers:\n\n\n	Dr. Malinvisa Sakdiyakorn is an HR/OD lecturer and researcher at Mahidol University\, and consultant with major Thai and regional organizations on Human Resources matters\n	Arni Riffareal is the HR Director\, Philippines and Director for Diversity & Inclusion? Asia Pacific\, at Ford Motor Company and has a master's degree in Organizational Psychology
X-ALT-DESC;FMTTYPE=text/html:<div>The business case for diversity and inclusion is overwhelming\, and yet we live in a time of seemingly increasing polarization. How do we build a business environment where diversity and inclusion transcend traditional categories like gender\, ability and ethnicity? Join us for an invigorating discussion and lots of sharing of ideas\, perspectives and experiences.<br />\n<br />\nThe program will launch with intensive timed discussions designed to provoke thought and allow you to interact with all participants.&nbsp\;Our speakers will then present in more detail on these topics\, followed by an interactive Q&amp\;A session.<br />\n&nbsp\;</div>\n\n<div>Our Speakers:</div>\n\n<ul>\n	<li><a href="https://muic.mahidol.ac.th/eng/personnel/assistant-professor-dr-malinvisa-sakdiyakorn/">Dr. Malinvisa Sakdiyakorn</a> is an HR/OD lecturer and researcher at Mahidol University\, and consultant with major Thai and regional organizations on Human Resources matters</li>\n	<li>Arni Riffareal is the HR Director\, Philippines and Director for Diversity &amp\; Inclusion? Asia Pacific\, at Ford Motor Company and has a master&#39\;s degree in Organizational Psychology</li>\n</ul>\n
LOCATION:Hilton Sukhumvit Bangkok BTS Phrom Phong station\, Exit 4
UID:e.3314.132
SEQUENCE:3
DTSTAMP:20260423T103734Z
URL:https://connect.amchamthailand.com/events/details/joint-hr-and-csr-committee-managing-diversity-and-inclusion-in-times-of-disruption-132
END:VEVENT

END:VCALENDAR
