BEGIN:VCALENDAR
VERSION:2.0
PRODID:-//ChamberMaster//Event Calendar 2.0//EN
METHOD:PUBLISH
X-PUBLISHED-TTL:P3D
REFRESH-INTERVAL:P3D
CALSCALE:GREGORIAN
BEGIN:VEVENT
DTSTART:20190424T113000Z
DTEND:20190424T140000Z
X-MICROSOFT-CDO-ALLDAYEVENT:FALSE
SUMMARY:Joint CSR and SME Committees : Using Digital Storytelling to Build Your Brand
DESCRIPTION:This event was so successful we're doing it again! \n\n \n\nLegends\, fairy tales\, ghost stories and epic adventures have captured our imaginations since people first began storytelling on cave walls. Some stories thrive\, while others get washed away. Although storytelling has changed with the times\, the digital age still has much to learn from the old traditions. Branding needs to become more genuine\, and the winning brands are bringing the human side back through powerful storytelling on both online and offline platforms. Learn new strategies to make your marketing speak with a more authentic voice.\n\n\n\nJoin us for an enlightening discussion on how the triple bottom line philosophy\, a CSR business management practice\, and the power of storytelling can help accelerate your brand.\n\n\n\nHear firsthand the story of Dale Lee and his business CoffeeWorks\, as he seeks to share their triple bottom line story with their customers and key shareholders to help drive sales and build customer loyalty.\n\n\n\nLearn from noted storyteller\, Rob Kawada\, as he explains the art and science of storytelling and shares his insights to help CoffeeWorks and other SMEs.\n\n\n\nAbout the Speakers\n\nDale Lee co-founded CoffeeWORKS Limited in Bangkok in 1995 and serves as the company's Managing Director to the present day. With co-founder Andrew Stotz\, Dale has steered the company through the initial start-up period and overseen the growth and professional development of the business to become one of the leading B2B fresh coffee roasting and commercial espresso equipment importers-distributors operating in Thailand.\n\n\n\nRob Kawada has worked in marketing and tech in Thailand since 2004. "The Science of Storytelling\," as he terms it\, has been a big factor in his own success as well as the success he has brought to other companies such as MINOR Group\, True Corporation\, KIS International School\, and Fuji Restaurants. He is also the founder of the online English school www.englishgang.com\, which currently employs 40 people in the United States and Thailand.
X-ALT-DESC;FMTTYPE=text/html:<div><strong><span style="font-size:14px\;"><span style="font-family:arial\;">This event was so successful we&#39\;re doing it again!&nbsp\;</span></span></strong></div>\n\n<div>&nbsp\;</div>\n\n<div><span style="font-size:14px\;"><span style="font-family:arial\;">Legends\, fairy tales\, ghost stories and epic adventures have captured our imaginations since people first began storytelling on cave walls. Some stories thrive\, while others get washed away. Although storytelling has&nbsp\;changed with the times\, the digital age still has much to learn from the old traditions. Branding needs to become more genuine\, and the winning brands are bringing the human side back through powerful storytelling on both online and offline platforms. Learn new strategies to make your marketing speak with a more authentic voice.<br />\n<br />\nJoin us for an enlightening discussion on how the triple bottom line philosophy\, a CSR business management practice\, and the power of storytelling can help accelerate your brand.<br />\n<br />\nHear firsthand the story of Dale Lee and his business CoffeeWorks\, as he seeks to share their triple bottom line story with their customers and key shareholders to help drive sales and build customer loyalty.<br />\n<br />\nLearn from noted storyteller\, Rob Kawada\, as he explains the art and science of storytelling and shares his insights to help CoffeeWorks and other SMEs.<br />\n<br />\nAbout the Speakers<br />\n<strong>Dale Lee&nbsp\;</strong>co-founded CoffeeWORKS Limited in Bangkok in 1995 and serves as the company&rsquo\;s Managing Director to the present day. With co-founder Andrew Stotz\, Dale has steered the company through the initial start-up period and overseen the growth and professional development of the business to become one of the leading B2B fresh coffee roasting and commercial espresso equipment importers-distributors operating in Thailand.<br />\n<br />\n<strong>Rob Kawada</strong>&nbsp\;has worked in marketing and tech in Thailand since 2004. &quot\;The Science of Storytelling\,&quot\; as he terms it\, has been a big factor in his own success as well as the success he has brought to other companies such as MINOR Group\, True Corporation\, KIS International School\, and Fuji Restaurants. He is also the founder of the online English school&nbsp\;<a href="http://www.englishgang.com/" target="_blank">www.englishgang.com</a>\, which currently employs 40 people in the United States and&nbsp\;Thailand.</span></span></div>\n
LOCATION:Bourbon Street Restaurant & Oyster Bar Soi Sukhumvit 63\, Ekkamai (BTS Ekkamai)
UID:e.3314.299
SEQUENCE:3
DTSTAMP:20260423T204929Z
URL:https://connect.amchamthailand.com/events/details/joint-csr-and-sme-committees-using-digital-storytelling-to-build-your-brand-299
END:VEVENT

END:VCALENDAR
