BEGIN:VCALENDAR
VERSION:2.0
PRODID:-//ChamberMaster//Event Calendar 2.0//EN
METHOD:PUBLISH
X-PUBLISHED-TTL:P3D
REFRESH-INTERVAL:P3D
CALSCALE:GREGORIAN
BEGIN:VEVENT
DTSTART:20210327T100000Z
DTEND:20210327T143000Z
X-MICROSOFT-CDO-ALLDAYEVENT:FALSE
SUMMARY:Joint Chambers Tech & The City x Chiang Mai Connect: Tech ecosystem entrepreneurs meet-up & Networking
DESCRIPTION:REGISTER NOW\n\n\n\nThe word is out for a few years in the making\, of grand plans for the Chiang Mai tech ecosystem\; a hub for startups\, digital nomads\, local entrepreneurs\, and international companies kick-starting for the global market. Many may think\, when and how is all this becoming a reality?\n\n\n\nThere is a lot more happening behind-the-scenes than what meets the eye. Tech communities are on the rise\, co-working spaces mushrooming. Staying on top of the game and to find out how you ride with this wave is crucial.\n\n\n\nJoin us at the very first edition of Tech & The City by Global Startup Hub CNX\, supported by NIA & Startup Thailand\, powered by iChiangmai & Chiang Mai Connect by NTCC.\n\n\n	Meet fellow startup founders and entrepreneurs who paint the colourful ecosystem here in Chiang Mai\n	Find out how to make-it as a startup in Chiang Mai\n	Stay updated on all the latest happenings in the Chiang Mai's growing tech ecosystem\n	Connect with entrepreneurs & professionals from the tech eco-system and beyond - wide-ranging industries in the North - linking business groups from the international and local chambers of commerce\, to the Federation of Thai Industries
X-ALT-DESC;FMTTYPE=text/html:<p><span style="font-size:14px\;"><a href="http://app.glueup.com/event/34206/register"><span style="font-family:arial\;"><strong><span style="color:#000080\;">REGISTER NOW</span></strong></span></a></span><br />\n<br />\nThe word is out for a few years in the making\, of grand plans for the Chiang Mai tech ecosystem\; a hub for startups\, digital nomads\, local entrepreneurs\, and international companies kick-starting for the global market. Many may think\, when and how is all this becoming a reality?<br />\n<br />\nThere is a lot more happening behind-the-scenes than what meets the eye. Tech communities are on the rise\, co-working spaces mushrooming. Staying on top of the game and to find out how you ride with this wave is crucial.<br />\n<br />\nJoin us at the very first edition of&nbsp\;Tech &amp\; The City by&nbsp\;<a href="https://web.facebook.com/GlobalStartupHubTH/?_rdc=1&amp\;_rdr" target="_blank">Global Startup Hub CNX</a>\, supported by&nbsp\;<a href="http://www.nia.or.th/" target="_blank">NIA</a>&nbsp\;&amp\;&nbsp\;<a href="https://th-th.facebook.com/ThailandStartup/#:~:text=Startup%20Thailand%20%E0%B9%80%E0%B8%9B%E0%B9%87%E0%B8%99%E0%B9%81%E0%B8%9E%E0%B8%A5%E0%B8%95%E0%B8%9F%E0%B8%AD%E0%B8%A3%E0%B9%8C%E0%B8%A1%E0%B8%81%E0%B8%B2%E0%B8%A3\,%E0%B8%97%E0%B8%99.)%20%E0%B8%AA%E0%B8%B3%E0%B8%99%E0%B8%B1%E0%B8%81%E0%B8%87%E0%B8%B2%E0%B8%99%E0%B8%9E%E0%B8%B1%E0%B8%92%E0%B8%99%E0%B8%B2%E0%B8%A7%E0%B8%B4%E0%B8%97%E0%B8%A2%E0%B8%B2%E0%B8%A8%E0%B8%B2%E0%B8%AA%E0%B8%95%E0%B8%A3%E0%B9%8C%E0%B9%81%E0%B8%A5%E0%B8%B0" target="_blank">Startup Thailand</a>\, powered by&nbsp\;<a href="http://www.facebook.com/ichiangmai.co" target="_blank">iChiangmai</a>&nbsp\;&amp\;&nbsp\;<a href="http://www.facebook.com/chiangmaiconnect" target="_blank">Chiang Mai Connect by NTCC</a>.</p>\n\n<ul>\n	<li>Meet fellow startup founders and entrepreneurs who paint the colourful ecosystem here in Chiang Mai</li>\n	<li>Find out how to make-it as a startup in Chiang Mai</li>\n	<li>Stay updated on all the latest happenings in the Chiang Mai&#39\;s growing tech ecosystem</li>\n	<li>Connect with entrepreneurs &amp\; professionals from the tech eco-system and beyond - wide-ranging industries in the North - linking business groups from the international and local chambers of commerce\, to the Federation of Thai Industries</li>\n</ul>\n
LOCATION:Artisan Digital Chiang Mai (map)
UID:e.3314.1868
SEQUENCE:3
DTSTAMP:20260422T044349Z
URL:https://connect.amchamthailand.com/events/details/joint-chambers-tech-the-city-x-chiang-mai-connect-tech-ecosystem-entrepreneurs-meet-up-networking-1868
END:VEVENT

END:VCALENDAR
