BEGIN:VCALENDAR
VERSION:2.0
PRODID:-//ChamberMaster//Event Calendar 2.0//EN
METHOD:PUBLISH
X-PUBLISHED-TTL:P3D
REFRESH-INTERVAL:P3D
CALSCALE:GREGORIAN
BEGIN:VEVENT
DTSTART:20190920T083000Z
DTEND:20190920T143000Z
X-MICROSOFT-CDO-ALLDAYEVENT:FALSE
SUMMARY:Joint Chambers Business Innovation 4.0 Forum & Networking\, Chiang Mai Connect edition
DESCRIPTION:REGISTER NOW\n\nInnovation\, Industry 4.0\, the 4IR\; none of which are foreign terms to today's ever-changing business landscape. Did you know that Chiang Mai's business scene is on the move to uplift traditional industries towards Thailand 4.0?   From the launch of medical districts\, unique triple helix [public-private-education] models to upgrade labour-intensive agrofood products\, to growing tech communities serving the international market\; Chiang Mai is becoming a business haven for SMEs looking to up-scale their innovation and become game-changers.\n\n\n\nAre you looking to expand into the top sectors in Chiang Mai?\n\n\n\nWe are calling all players of Agrofood | Health | Toursim/MICE | IoT/Tech | Manufacturing industries!\n\nJoin us on Friday\, September 20 at the Northern Science Park for the largest business event platform connecting the business community in Thailand with the North.\n\n\n	Meet 300+ fellow entrepreneurs\, established players\, SMEs\, and Startups   Chiang Mai-based and all around Thailand via the international chamber networks and top business associations\n	Learn from local industry champions\; Thai and international companies\, on the happenings and investment trends in Agrofood\, Health\, Toursim/MICE\, IoT/Tech\, Manufacturing in Chiang Mai\n	Find out WHY Chiang Mai? from business perspectives of established global players\; how livability and the flow/influx of quality\, creative professionals will change your minds for relocation\n	To Chiang Mai-based companies   this is your chance to connect with potential international business partners from all around Thailand\; from the international biz community (Netherlands\, USA\, Australia\, Germany\, Singapore\, Turkey\, Canada\, Belgium\, France\, and more) to Bangkok- & Central Thailand- based companies\n\nFacebook: https://web.facebook.com/events/2421430834572191\n\n\n\nEvent program\n\n3:30 pm                   Registration\, enjoy welcome mocktails by Reception area\n\n\n\n4:00   5:00 pm        Official tour of the Northern Science Park (NSP)\n\n                                (Business pitches by local SMEs and Startups based in NSP during tour)\n\n                                NSP is an incubation center for SMEs/Startups bringing in know-how from 7 top tech\n\n                                universities in the North of Thailand to develop innovative products viable for the\n\n                                global market\n\n\n\n5:30   6:00 pm        Official welcome and opening speeches by:\n\n                                     - Kalin Sarasin | Chairman | Thai Chamber of Commerce\, Board of Trade\n\n                                     - Nichapa Yoswee | Senior Vice President   Business | Thailand Convention & \n\n                                       Exhibition Bureau (TCEB)\n\n                                     - Anucha Meekiatchaikul | Chairman | Federation of Thai Industries (FTI) Chiang\n\n                                       Mai\n\n                                     - Dr. Tanyanuparb Anantana | Director | Northern Science Park\n\n                                     - Stanley Kang | Chairman | Joint Foreign Chambers of Commerce (JFCCT)\n\n                                     - Stefan van der Sluijs | Netherlands-Thai Chamber of Commerce (NTCC)\n\n\n\n6:00   7:15 pm        Forum: Business Innovation 4.0 Trend talk by Chiang Mai industry leaders\n\n                                     Agrofood\n\n                                          Smith Taweelerdnithi\, Managing Director\, Nithi Foods \n\n                                          "Chiang Mai: home  and hub for Food Innovation" \n\n\n\n                                Tourism/MICE\n\n                                          Jaruwan Suwannasat\, Director of MICE Intelligence and Innovation\, Thailand\n\n                                          Convention & Exhibition Bureau (TCEB)\n\n                                          "Building the fundamentals to create SMART MICE City through creativity and\n\n                                           innovation"\n\n\n\n                                 Health\n\n                                           Associate Professor Sirianong Namwongprom\, Assistant Dean for Research & \n\n                                           Foreign Affairs\, Faculty of Medicine\, Chiang Mai University\n\n                                           "Healthtech trends and the Medical Innovation District"\n\n\n\n                                 IoT/Tech\n\n                                           Kittichai Phiphatbunyarat\, Co-Founder\, Chiangmai&Co | Partner\, Punspace\n\n                                          "Why do tech companies"\n\n\n\n                                 Manufacturing\n\n                                           Jerry van Vive\, CEO\, Safran\n\n                                           "Industry 4.0 and aviation in the Lamphun Industrial Estate"\n\n7:15   9:30 pm         Business fair & Cocktail dinner\n\n                                 Networking\n\n                                 Business matching @SME Biz Synergy Hub\n\n \n\nBusiness fair\n\nDo you have an innovative product to showcase? We are offering exhibition [booth] space for shortlisted companies and entrepreneurs in the following sectors: Agrofood\, Tourism/MICE\, Health\, IoT/Tech\, Manufacturing\n\n\n\nRegister now   First come first serve!\n\n\n\nTravel & Accommodations\n\nFlights: TG\, Thai Smile\, Bangkok Airways from 19th to 21st September\n\nHotels: 3 hotels\, 3 budgets (1) Art Mai-Gallery Hotel (2) Nimman Mai-Design Hotel (3) Sleep Mai-Lifestyle Hotel
X-ALT-DESC;FMTTYPE=text/html:<p><a href="https://www.eventbank.com/event/16114">REGISTER NOW</a><br />\nInnovation\, Industry 4.0\, the 4IR\; none of which are foreign terms to today&rsquo\;s ever-changing business landscape. Did you know that Chiang Mai&rsquo\;s business scene is on the move to uplift traditional industries towards Thailand 4.0? &ndash\; From the launch of medical districts\, unique triple helix [public-private-education] models to upgrade labour-intensive agrofood products\, to growing tech communities serving the international market\; Chiang Mai is becoming a business haven for SMEs looking to up-scale their innovation and become game-changers.<br />\n<br />\nAre you looking to expand into the top sectors in Chiang Mai?<br />\n<br />\nWe are calling all players of Agrofood | Health | Toursim/MICE | IoT/Tech | Manufacturing industries!<br />\nJoin us on Friday\, September 20 at the Northern Science Park for the largest business event platform connecting the business community in Thailand with the North.</p>\n\n<ul>\n	<li>Meet 300+ fellow entrepreneurs\, established players\, SMEs\, and Startups &ndash\; Chiang Mai-based and all around Thailand via the international chamber networks and top business associations</li>\n	<li>Learn from local industry champions\; Thai and international companies\, on the happenings and investment trends in Agrofood\, Health\, Toursim/MICE\, IoT/Tech\, Manufacturing in Chiang Mai</li>\n	<li>Find out WHY Chiang Mai? from business perspectives of established global players\; how livability and the flow/influx of quality\, creative professionals will change your minds for relocation</li>\n	<li>To Chiang Mai-based companies &ndash\; this is your chance to connect with potential international business partners from all around Thailand\; from the international biz community (Netherlands\, USA\, Australia\, Germany\, Singapore\, Turkey\, Canada\, Belgium\, France\, and more) to Bangkok- &amp\; Central Thailand- based companies</li>\n</ul>\nFacebook: <a href="https://web.facebook.com/events/2421430834572191">https://web.facebook.com/events/2421430834572191</a><br />\n<br />\n<strong>Event program</strong><br />\n3:30&nbsp\;pm&nbsp\;&nbsp\;&nbsp\;&nbsp\;&nbsp\;&nbsp\;&nbsp\;&nbsp\;&nbsp\;&nbsp\;&nbsp\;&nbsp\;&nbsp\;&nbsp\;&nbsp\;&nbsp\;&nbsp\;&nbsp\; Registration\, enjoy welcome mocktails by Reception area<br />\n<br />\n4:00 &ndash\; 5:00 pm&nbsp\;&nbsp\;&nbsp\;&nbsp\;&nbsp\;&nbsp\;&nbsp\; Official tour of the Northern Science Park (NSP)<br />\n&nbsp\;&nbsp\;&nbsp\;&nbsp\;&nbsp\;&nbsp\;&nbsp\;&nbsp\;&nbsp\;&nbsp\;&nbsp\;&nbsp\;&nbsp\;&nbsp\;&nbsp\;&nbsp\;&nbsp\;&nbsp\;&nbsp\;&nbsp\;&nbsp\;&nbsp\;&nbsp\;&nbsp\;&nbsp\;&nbsp\;&nbsp\;&nbsp\;&nbsp\;&nbsp\;&nbsp\; (Business pitches by local SMEs and Startups based in NSP during tour)<br />\n&nbsp\;&nbsp\;&nbsp\;&nbsp\;&nbsp\;&nbsp\;&nbsp\;&nbsp\;&nbsp\;&nbsp\;&nbsp\;&nbsp\;&nbsp\;&nbsp\;&nbsp\;&nbsp\;&nbsp\;&nbsp\;&nbsp\;&nbsp\;&nbsp\;&nbsp\;&nbsp\;&nbsp\;&nbsp\;&nbsp\;&nbsp\;&nbsp\;&nbsp\;&nbsp\;&nbsp\; NSP is an incubation center for SMEs/Startups bringing in know-how from 7 top tech<br />\n&nbsp\;&nbsp\;&nbsp\;&nbsp\;&nbsp\;&nbsp\;&nbsp\;&nbsp\;&nbsp\;&nbsp\;&nbsp\;&nbsp\;&nbsp\;&nbsp\;&nbsp\;&nbsp\;&nbsp\;&nbsp\;&nbsp\;&nbsp\;&nbsp\;&nbsp\;&nbsp\;&nbsp\;&nbsp\;&nbsp\;&nbsp\;&nbsp\;&nbsp\;&nbsp\;&nbsp\; universities in the North of Thailand to develop innovative products viable for the<br />\n&nbsp\;&nbsp\;&nbsp\;&nbsp\;&nbsp\;&nbsp\;&nbsp\;&nbsp\;&nbsp\;&nbsp\;&nbsp\;&nbsp\;&nbsp\;&nbsp\;&nbsp\;&nbsp\;&nbsp\;&nbsp\;&nbsp\;&nbsp\;&nbsp\;&nbsp\;&nbsp\;&nbsp\;&nbsp\;&nbsp\;&nbsp\;&nbsp\;&nbsp\;&nbsp\;&nbsp\; global&nbsp\;market<br />\n<br />\n5:30 &ndash\; 6:00&nbsp\;pm&nbsp\;&nbsp\;&nbsp\;&nbsp\;&nbsp\;&nbsp\;&nbsp\;&nbsp\;Official welcome and opening speeches by:<br />\n&nbsp\;&nbsp\;&nbsp\;&nbsp\;&nbsp\;&nbsp\;&nbsp\;&nbsp\;&nbsp\;&nbsp\;&nbsp\;&nbsp\;&nbsp\;&nbsp\;&nbsp\;&nbsp\;&nbsp\;&nbsp\;&nbsp\;&nbsp\;&nbsp\;&nbsp\;&nbsp\;&nbsp\;&nbsp\;&nbsp\;&nbsp\;&nbsp\;&nbsp\;&nbsp\;&nbsp\;&nbsp\;&nbsp\;&nbsp\;&nbsp\;&nbsp\; - Kalin Sarasin | Chairman | Thai Chamber of Commerce\, Board of Trade<br />\n&nbsp\;&nbsp\;&nbsp\;&nbsp\;&nbsp\;&nbsp\;&nbsp\;&nbsp\;&nbsp\;&nbsp\;&nbsp\;&nbsp\;&nbsp\;&nbsp\;&nbsp\;&nbsp\;&nbsp\;&nbsp\;&nbsp\;&nbsp\;&nbsp\;&nbsp\;&nbsp\;&nbsp\;&nbsp\;&nbsp\;&nbsp\;&nbsp\;&nbsp\;&nbsp\;&nbsp\;&nbsp\;&nbsp\;&nbsp\;&nbsp\;&nbsp\; - Nichapa Yoswee | Senior Vice President &ndash\; Business | Thailand Convention &amp\;&nbsp\;<br />\n&nbsp\;&nbsp\;&nbsp\;&nbsp\;&nbsp\;&nbsp\;&nbsp\;&nbsp\;&nbsp\;&nbsp\;&nbsp\;&nbsp\;&nbsp\;&nbsp\;&nbsp\;&nbsp\;&nbsp\;&nbsp\;&nbsp\;&nbsp\;&nbsp\;&nbsp\;&nbsp\;&nbsp\;&nbsp\;&nbsp\;&nbsp\;&nbsp\;&nbsp\;&nbsp\;&nbsp\;&nbsp\;&nbsp\;&nbsp\;&nbsp\;&nbsp\;&nbsp\;&nbsp\;&nbsp\;Exhibition Bureau (TCEB)<br />\n&nbsp\;&nbsp\;&nbsp\;&nbsp\;&nbsp\;&nbsp\;&nbsp\;&nbsp\;&nbsp\;&nbsp\;&nbsp\;&nbsp\;&nbsp\;&nbsp\;&nbsp\;&nbsp\;&nbsp\;&nbsp\;&nbsp\;&nbsp\;&nbsp\;&nbsp\;&nbsp\;&nbsp\;&nbsp\;&nbsp\;&nbsp\;&nbsp\;&nbsp\;&nbsp\;&nbsp\;&nbsp\;&nbsp\;&nbsp\;&nbsp\;&nbsp\;&nbsp\;- Anucha Meekiatchaikul | Chairman | Federation of Thai Industries (FTI) Chiang<br />\n&nbsp\;&nbsp\;&nbsp\;&nbsp\;&nbsp\;&nbsp\;&nbsp\;&nbsp\;&nbsp\;&nbsp\;&nbsp\;&nbsp\;&nbsp\;&nbsp\;&nbsp\;&nbsp\;&nbsp\;&nbsp\;&nbsp\;&nbsp\;&nbsp\;&nbsp\;&nbsp\;&nbsp\;&nbsp\;&nbsp\;&nbsp\;&nbsp\;&nbsp\;&nbsp\;&nbsp\;&nbsp\;&nbsp\;&nbsp\;&nbsp\;&nbsp\;&nbsp\;&nbsp\; Mai<br />\n&nbsp\;&nbsp\;&nbsp\;&nbsp\;&nbsp\;&nbsp\;&nbsp\;&nbsp\;&nbsp\;&nbsp\;&nbsp\;&nbsp\;&nbsp\;&nbsp\;&nbsp\;&nbsp\;&nbsp\;&nbsp\;&nbsp\;&nbsp\;&nbsp\;&nbsp\;&nbsp\;&nbsp\;&nbsp\;&nbsp\;&nbsp\;&nbsp\;&nbsp\;&nbsp\;&nbsp\;&nbsp\;&nbsp\;&nbsp\;&nbsp\;&nbsp\;&nbsp\;- Dr. Tanyanuparb Anantana | Director | Northern Science Park<br />\n&nbsp\;&nbsp\;&nbsp\;&nbsp\;&nbsp\;&nbsp\;&nbsp\;&nbsp\;&nbsp\;&nbsp\;&nbsp\;&nbsp\;&nbsp\;&nbsp\;&nbsp\;&nbsp\;&nbsp\;&nbsp\;&nbsp\;&nbsp\;&nbsp\;&nbsp\;&nbsp\;&nbsp\;&nbsp\;&nbsp\;&nbsp\;&nbsp\;&nbsp\;&nbsp\;&nbsp\;&nbsp\;&nbsp\;&nbsp\;&nbsp\;&nbsp\; - Stanley Kang | Chairman | Joint Foreign Chambers of Commerce (JFCCT)<br />\n&nbsp\;&nbsp\;&nbsp\;&nbsp\;&nbsp\;&nbsp\;&nbsp\;&nbsp\;&nbsp\;&nbsp\;&nbsp\;&nbsp\;&nbsp\;&nbsp\;&nbsp\;&nbsp\;&nbsp\;&nbsp\;&nbsp\;&nbsp\;&nbsp\;&nbsp\;&nbsp\;&nbsp\;&nbsp\;&nbsp\;&nbsp\;&nbsp\;&nbsp\;&nbsp\;&nbsp\;&nbsp\;&nbsp\;&nbsp\;&nbsp\;&nbsp\; - Stefan van der Sluijs | Netherlands-Thai Chamber of Commerce (NTCC)<br />\n<br />\n6:00 &ndash\; 7:15&nbsp\;pm&nbsp\;&nbsp\;&nbsp\;&nbsp\;&nbsp\;&nbsp\;&nbsp\; Forum: Business Innovation 4.0 Trend talk by Chiang Mai industry leaders<br />\n&nbsp\;&nbsp\;&nbsp\;&nbsp\;&nbsp\;&nbsp\;&nbsp\;&nbsp\;&nbsp\;&nbsp\;&nbsp\;&nbsp\;&nbsp\;&nbsp\;&nbsp\;&nbsp\;&nbsp\;&nbsp\;&nbsp\;&nbsp\;&nbsp\;&nbsp\;&nbsp\;&nbsp\;&nbsp\;&nbsp\;&nbsp\;&nbsp\;&nbsp\;&nbsp\;&nbsp\;&nbsp\;&nbsp\;&nbsp\;&nbsp\;&nbsp\; <u><em>Agrofood</em></u><br />\n&nbsp\;&nbsp\;&nbsp\;&nbsp\;&nbsp\;&nbsp\;&nbsp\;&nbsp\;&nbsp\;&nbsp\;&nbsp\;&nbsp\;&nbsp\;&nbsp\;&nbsp\;&nbsp\;&nbsp\;&nbsp\;&nbsp\;&nbsp\;&nbsp\;&nbsp\;&nbsp\;&nbsp\;&nbsp\;&nbsp\;&nbsp\;&nbsp\;&nbsp\;&nbsp\;&nbsp\;&nbsp\;&nbsp\;&nbsp\;&nbsp\;&nbsp\;&nbsp\;&nbsp\;&nbsp\;&nbsp\;&nbsp\; Smith Taweelerdnithi\, Managing Director\, Nithi Foods&nbsp\;<br />\n&nbsp\;&nbsp\;&nbsp\;&nbsp\;&nbsp\;&nbsp\;&nbsp\;&nbsp\;&nbsp\;&nbsp\;&nbsp\;&nbsp\;&nbsp\;&nbsp\;&nbsp\;&nbsp\;&nbsp\;&nbsp\;&nbsp\;&nbsp\;&nbsp\;&nbsp\;&nbsp\;&nbsp\;&nbsp\;&nbsp\;&nbsp\;&nbsp\;&nbsp\;&nbsp\;&nbsp\;&nbsp\;&nbsp\;&nbsp\;&nbsp\;&nbsp\;&nbsp\;&nbsp\;&nbsp\;&nbsp\;&nbsp\;&nbsp\;&ldquo\;Chiang Mai: home&nbsp\; and hub for Food Innovation&rdquo\;&nbsp\;<br />\n<br />\n&nbsp\;&nbsp\;&nbsp\;&nbsp\;&nbsp\;&nbsp\;&nbsp\;&nbsp\;&nbsp\;&nbsp\;&nbsp\;&nbsp\;&nbsp\;&nbsp\;&nbsp\;&nbsp\;&nbsp\;&nbsp\;&nbsp\;&nbsp\;&nbsp\;&nbsp\;&nbsp\;&nbsp\;&nbsp\;&nbsp\;&nbsp\;&nbsp\;&nbsp\;&nbsp\;&nbsp\; <u><em>Tourism/MICE</em></u><br />\n&nbsp\;&nbsp\;&nbsp\;&nbsp\;&nbsp\;&nbsp\;&nbsp\;&nbsp\;&nbsp\;&nbsp\;&nbsp\;&nbsp\;&nbsp\;&nbsp\;&nbsp\;&nbsp\;&nbsp\;&nbsp\;&nbsp\; &nbsp\;&nbsp\;&nbsp\;&nbsp\;&nbsp\;&nbsp\;&nbsp\;&nbsp\; &nbsp\;&nbsp\;&nbsp\;&nbsp\;&nbsp\;&nbsp\;&nbsp\;&nbsp\;&nbsp\;&nbsp\;&nbsp\;&nbsp\; Jaruwan Suwannasat\, Director of MICE Intelligence and Innovation\, Thailand<br />\n&nbsp\;&nbsp\;&nbsp\;&nbsp\;&nbsp\;&nbsp\;&nbsp\;&nbsp\;&nbsp\;&nbsp\;&nbsp\;&nbsp\;&nbsp\;&nbsp\;&nbsp\;&nbsp\;&nbsp\;&nbsp\;&nbsp\;&nbsp\;&nbsp\;&nbsp\;&nbsp\;&nbsp\;&nbsp\;&nbsp\;&nbsp\;&nbsp\;&nbsp\;&nbsp\;&nbsp\;&nbsp\;&nbsp\;&nbsp\;&nbsp\;&nbsp\;&nbsp\;&nbsp\;&nbsp\;&nbsp\;&nbsp\; Convention &amp\; Exhibition Bureau (TCEB)<br />\n&nbsp\;&nbsp\;&nbsp\;&nbsp\;&nbsp\;&nbsp\;&nbsp\;&nbsp\;&nbsp\;&nbsp\;&nbsp\;&nbsp\;&nbsp\;&nbsp\;&nbsp\;&nbsp\;&nbsp\;&nbsp\;&nbsp\;&nbsp\;&nbsp\;&nbsp\;&nbsp\;&nbsp\;&nbsp\;&nbsp\;&nbsp\;&nbsp\;&nbsp\;&nbsp\;&nbsp\;&nbsp\;&nbsp\;&nbsp\;&nbsp\;&nbsp\;&nbsp\;&nbsp\;&nbsp\; &nbsp\; &ldquo\;Building the fundamentals to create SMART MICE City through creativity and<br />\n&nbsp\;&nbsp\;&nbsp\;&nbsp\;&nbsp\;&nbsp\;&nbsp\;&nbsp\;&nbsp\;&nbsp\;&nbsp\;&nbsp\;&nbsp\;&nbsp\;&nbsp\;&nbsp\;&nbsp\;&nbsp\;&nbsp\;&nbsp\;&nbsp\;&nbsp\;&nbsp\;&nbsp\;&nbsp\;&nbsp\;&nbsp\;&nbsp\;&nbsp\;&nbsp\;&nbsp\;&nbsp\;&nbsp\;&nbsp\;&nbsp\;&nbsp\;&nbsp\;&nbsp\;&nbsp\;&nbsp\;&nbsp\;&nbsp\; innovation&rdquo\;<br />\n<br />\n&nbsp\;&nbsp\;&nbsp\;&nbsp\;&nbsp\;&nbsp\;&nbsp\;&nbsp\;&nbsp\;&nbsp\;&nbsp\;&nbsp\;&nbsp\;&nbsp\;&nbsp\;&nbsp\;&nbsp\;&nbsp\;&nbsp\;&nbsp\;&nbsp\;&nbsp\;&nbsp\;&nbsp\;&nbsp\;&nbsp\;&nbsp\;&nbsp\;&nbsp\;&nbsp\;&nbsp\;&nbsp\; <u><em>Health</em></u><br />\n&nbsp\;&nbsp\;&nbsp\;&nbsp\;&nbsp\;&nbsp\;&nbsp\;&nbsp\;&nbsp\;&nbsp\;&nbsp\;&nbsp\;&nbsp\;&nbsp\;&nbsp\;&nbsp\;&nbsp\;&nbsp\;&nbsp\; &nbsp\;&nbsp\;&nbsp\;&nbsp\;&nbsp\;&nbsp\;&nbsp\;&nbsp\;&nbsp\;&nbsp\;&nbsp\;&nbsp\;&nbsp\;&nbsp\;&nbsp\;&nbsp\;&nbsp\;&nbsp\;&nbsp\;&nbsp\;&nbsp\;&nbsp\;&nbsp\;Associate Professor Sirianong Namwongprom\, Assistant Dean for Research &amp\;&nbsp\;<br />\n&nbsp\;&nbsp\;&nbsp\;&nbsp\;&nbsp\;&nbsp\;&nbsp\;&nbsp\;&nbsp\;&nbsp\;&nbsp\;&nbsp\;&nbsp\;&nbsp\;&nbsp\;&nbsp\;&nbsp\;&nbsp\;&nbsp\;&nbsp\;&nbsp\;&nbsp\;&nbsp\;&nbsp\;&nbsp\;&nbsp\;&nbsp\;&nbsp\;&nbsp\;&nbsp\;&nbsp\;&nbsp\;&nbsp\;&nbsp\;&nbsp\;&nbsp\;&nbsp\;&nbsp\;&nbsp\;&nbsp\;&nbsp\;&nbsp\; Foreign Affairs\, Faculty of Medicine\, Chiang Mai University<br />\n<em>&nbsp\;&nbsp\;&nbsp\;&nbsp\;&nbsp\;&nbsp\;&nbsp\;&nbsp\;&nbsp\;&nbsp\; &nbsp\;&nbsp\;&nbsp\;&nbsp\;&nbsp\;&nbsp\;&nbsp\;&nbsp\;&nbsp\;&nbsp\;&nbsp\;&nbsp\;&nbsp\;&nbsp\;&nbsp\;&nbsp\;&nbsp\;&nbsp\;&nbsp\;&nbsp\;&nbsp\;&nbsp\;&nbsp\;&nbsp\;&nbsp\;&nbsp\;&nbsp\;&nbsp\;&nbsp\;&nbsp\; &nbsp\;&ldquo\;Healthtech trends and the Medical Innovation District&rdquo\;</em><br />\n<br />\n&nbsp\;&nbsp\;&nbsp\;&nbsp\;&nbsp\;&nbsp\;&nbsp\;&nbsp\;&nbsp\;&nbsp\;&nbsp\;&nbsp\;&nbsp\;&nbsp\;&nbsp\;&nbsp\;&nbsp\;&nbsp\;&nbsp\;&nbsp\;&nbsp\;&nbsp\;&nbsp\;&nbsp\;&nbsp\;&nbsp\;&nbsp\;&nbsp\;&nbsp\;&nbsp\;&nbsp\;&nbsp\; <u><em>IoT/Tech</em></u><br />\n&nbsp\;&nbsp\;&nbsp\;&nbsp\;&nbsp\;&nbsp\;&nbsp\;&nbsp\;&nbsp\;&nbsp\;&nbsp\;&nbsp\;&nbsp\;&nbsp\;&nbsp\;&nbsp\;&nbsp\;&nbsp\;&nbsp\;&nbsp\;&nbsp\;&nbsp\;&nbsp\;&nbsp\;&nbsp\;&nbsp\;&nbsp\;&nbsp\;&nbsp\;&nbsp\;&nbsp\;&nbsp\;&nbsp\;&nbsp\;&nbsp\;&nbsp\;&nbsp\;&nbsp\;&nbsp\;&nbsp\;&nbsp\;&nbsp\; Kittichai Phiphatbunyarat\, Co-Founder\, Chiangmai&amp\;Co | Partner\, Punspace<br />\n&nbsp\;&nbsp\;&nbsp\;&nbsp\;&nbsp\;&nbsp\;&nbsp\;&nbsp\;&nbsp\;&nbsp\;&nbsp\;&nbsp\;&nbsp\;&nbsp\;&nbsp\;&nbsp\;&nbsp\;&nbsp\;&nbsp\;&nbsp\;&nbsp\;&nbsp\;&nbsp\;&nbsp\;&nbsp\;&nbsp\;&nbsp\;&nbsp\;&nbsp\;&nbsp\;&nbsp\;&nbsp\;&nbsp\;&nbsp\;&nbsp\;&nbsp\;&nbsp\;&nbsp\;&nbsp\;&nbsp\;&nbsp\;&nbsp\;<em>&ldquo\;Why do tech companies&rdquo\;</em><br />\n<br />\n&nbsp\;&nbsp\;&nbsp\;&nbsp\;&nbsp\;&nbsp\;&nbsp\;&nbsp\;&nbsp\;&nbsp\;&nbsp\;&nbsp\;&nbsp\;&nbsp\;&nbsp\;&nbsp\;&nbsp\;&nbsp\;&nbsp\;&nbsp\;&nbsp\;&nbsp\;&nbsp\;&nbsp\;&nbsp\;&nbsp\;&nbsp\;&nbsp\;&nbsp\;&nbsp\;&nbsp\;&nbsp\;&nbsp\;<u><em>Manufacturing</em></u><br />\n&nbsp\;&nbsp\;&nbsp\;&nbsp\;&nbsp\;&nbsp\;&nbsp\;&nbsp\;&nbsp\;&nbsp\;&nbsp\;&nbsp\;&nbsp\;&nbsp\;&nbsp\;&nbsp\;&nbsp\;&nbsp\;&nbsp\;&nbsp\;&nbsp\;&nbsp\;&nbsp\;&nbsp\;&nbsp\;&nbsp\;&nbsp\;&nbsp\;&nbsp\;&nbsp\;&nbsp\;&nbsp\;&nbsp\;&nbsp\;&nbsp\;&nbsp\;&nbsp\;&nbsp\;&nbsp\; &nbsp\;&nbsp\; Jerry van Vive\, CEO\, Safran<br />\n&nbsp\;&nbsp\;&nbsp\;&nbsp\;&nbsp\;&nbsp\;&nbsp\;&nbsp\;&nbsp\;&nbsp\;&nbsp\;&nbsp\;&nbsp\;&nbsp\;&nbsp\;&nbsp\;&nbsp\;&nbsp\;&nbsp\;&nbsp\;&nbsp\;&nbsp\;&nbsp\;&nbsp\;&nbsp\;&nbsp\;&nbsp\;&nbsp\;&nbsp\;&nbsp\;&nbsp\;&nbsp\;&nbsp\;&nbsp\;&nbsp\;&nbsp\;&nbsp\;&nbsp\;&nbsp\;&nbsp\;&nbsp\;&nbsp\; <em>&ldquo\;Industry 4.0 and aviation in the Lamphun Industrial Estate&rdquo\;</em>\n\n<p>7:15 &ndash\; 9:30&nbsp\;pm&nbsp\;&nbsp\;&nbsp\;&nbsp\;&nbsp\;&nbsp\;&nbsp\;&nbsp\; Business fair &amp\; Cocktail dinner<br />\n&nbsp\;&nbsp\;&nbsp\;&nbsp\;&nbsp\;&nbsp\;&nbsp\;&nbsp\;&nbsp\;&nbsp\;&nbsp\;&nbsp\;&nbsp\;&nbsp\;&nbsp\;&nbsp\;&nbsp\;&nbsp\;&nbsp\;&nbsp\;&nbsp\;&nbsp\;&nbsp\;&nbsp\;&nbsp\;&nbsp\;&nbsp\;&nbsp\;&nbsp\;&nbsp\;&nbsp\;&nbsp\; Networking<br />\n&nbsp\;&nbsp\;&nbsp\;&nbsp\;&nbsp\;&nbsp\;&nbsp\;&nbsp\;&nbsp\;&nbsp\;&nbsp\;&nbsp\;&nbsp\;&nbsp\;&nbsp\;&nbsp\;&nbsp\;&nbsp\;&nbsp\;&nbsp\;&nbsp\;&nbsp\;&nbsp\;&nbsp\;&nbsp\;&nbsp\;&nbsp\;&nbsp\;&nbsp\;&nbsp\;&nbsp\;&nbsp\; Business matching @SME Biz Synergy Hub<br />\n&nbsp\;<br />\n<u><strong>Business fair</strong></u><br />\nDo you have an innovative product to showcase? We are offering exhibition [booth] space for shortlisted companies and entrepreneurs in the following sectors: Agrofood\, Tourism/MICE\, Health\, IoT/Tech\, Manufacturing<br />\n<br />\n<a href="http://ntcc1.typeform.com/to/w8pYs6">Register now</a> &ndash\; First come first serve!<br />\n<br />\n<u><strong>Travel &amp\; Accommodations</strong></u><br />\n<em>Flights:</em> TG\, Thai Smile\, Bangkok Airways from 19th to 21st September<br />\n<em>Hotels:</em> 3 hotels\, 3 budgets (1) Art Mai-Gallery Hotel (2) Nimman Mai-Design Hotel (3) Sleep Mai-Lifestyle Hotel</p>\n
LOCATION:Northern Science Park\, Chiang Mai University map
UID:e.3314.388
SEQUENCE:3
DTSTAMP:20260423T103342Z
URL:https://connect.amchamthailand.com/events/details/joint-chambers-business-innovation-4-0-forum-networking-chiang-mai-connect-edition-388
END:VEVENT

END:VCALENDAR
