BEGIN:VCALENDAR
VERSION:2.0
PRODID:-//ChamberMaster//Event Calendar 2.0//EN
METHOD:PUBLISH
X-PUBLISHED-TTL:P3D
REFRESH-INTERVAL:P3D
CALSCALE:GREGORIAN
BEGIN:VEVENT
DTSTART:20220831T020000Z
DTEND:20220831T030000Z
X-MICROSOFT-CDO-ALLDAYEVENT:FALSE
SUMMARY:Joint Auto\, Customs & Excise Councils and Legal Committee Meeting: Electric Vehicles (EVs)
DESCRIPTION:Please join us to discuss Electric Vehicles (EVs) and other cross-sectoral issues related to customs\, excise\, duty measures\, and the automotive industry.\n\n\n\nAMCHAM's Auto and Customs & Excise Councils together with the Legal Committee would like to invite interested members to this discussion on EVs\, particularly the definition of Completely Knocked Down (CKD) for Battery EVs (BEVs) and its duty tax rate.  \n\n \n\nWe will incorporate and align the EVs issues to propose our position or enquiries to the Department of Customs and relevant government agencies involved in the regulations and taxation for EVs. We will also take this opportunity to discuss other issues of shared interest among the three councils and committee.
X-ALT-DESC;FMTTYPE=text/html:Please join us to discuss Electric Vehicles (EVs) and other cross-sectoral issues related to customs\, excise\, duty measures\, and the automotive industry.<br />\n<br />\nAMCHAM&rsquo\;s Auto and Customs &amp\; Excise Councils together with the Legal Committee would like to invite interested members to this discussion on EVs\, particularly the definition of Completely Knocked Down (CKD) for Battery EVs (BEVs) and its duty tax rate. &nbsp\;<br />\n&nbsp\;<br />\nWe will incorporate and align the EVs issues to propose our position or enquiries to the Department of Customs and relevant government agencies involved in the regulations and taxation for EVs. We will also take this opportunity to discuss other issues of shared interest among the three councils and committee.
LOCATION:Video Conference
UID:e.3314.2271
SEQUENCE:3
DTSTAMP:20260420T200552Z
URL:https://connect.amchamthailand.com/events/details/joint-auto-customs-excise-councils-and-legal-committee-meeting-electric-vehicles-evs-2271
END:VEVENT

END:VCALENDAR
