BEGIN:VCALENDAR
VERSION:2.0
PRODID:-//ChamberMaster//Event Calendar 2.0//EN
METHOD:PUBLISH
X-PUBLISHED-TTL:P3D
REFRESH-INTERVAL:P3D
CALSCALE:GREGORIAN
BEGIN:VEVENT
DTSTART:20210322T070000Z
DTEND:20210322T080000Z
X-MICROSOFT-CDO-ALLDAYEVENT:FALSE
SUMMARY:Joint Aerospace Council & Legal Committee: Bankruptcy Issues in the Aviation Industry
DESCRIPTION:The Covid-19-induced drop in demand for air travel caused a reckoning for airlines and the aviation industry as a whole. With razor-thin margins and\, in some cases\, loose controls\, a number of airlines have had little choice but to seek bankruptcy protection during the pandemic. Avianca\, Virgin Australia\, Virgin Atlantic\, and\, of course\, Thai Airways were among the world's major airlines forced to seek bankruptcy protection in 2020. When an airline winds down its operations or seeks bankruptcy protection\, contracts are dismembered\, jobs are lost\, suppliers and lenders are expected or compelled to take haircuts\, leasing companies are forced to make difficult decisions\, and the flying public suffers. \n\n \n\nIn this joint AMCHAM Aerospace Council and Legal Committee event\, a panel of aviation lawyers and bankruptcy specialists will discuss airline bankruptcies from both a Thai law and international perspective. Our speakers - John Frangos\, Partner at Tilleke & Gibbins\; Waranon (Warren) Vanichprapa\, Partner at DLA Piper\; and James Bradley\, Partner at K&L Gates -  will cover debtor and creditor rights in a Thai bankruptcy reorganization proceeding\, how other aviation industry stakeholders fare in Thai bankruptcy reorganization proceedings\, and take a comparative look at how other countries handle airline bankruptcies.
X-ALT-DESC;FMTTYPE=text/html:The Covid-19-induced drop in demand for air travel caused a reckoning for airlines and the aviation industry as a whole. With razor-thin margins and\, in some cases\, loose controls\, a number of airlines have had little choice but to seek bankruptcy protection during the pandemic. Avianca\, Virgin Australia\, Virgin Atlantic\, and\, of course\, Thai Airways were among the world&rsquo\;s major airlines forced to seek bankruptcy protection in 2020. When an airline winds down its operations or seeks bankruptcy protection\, contracts are dismembered\, jobs are lost\, suppliers and lenders are expected or compelled to take haircuts\, leasing companies are forced to make difficult decisions\, and the flying public suffers.&nbsp\;<br />\n&nbsp\;<br />\nIn this joint AMCHAM Aerospace Council and Legal Committee event\, a panel of aviation lawyers and bankruptcy specialists will discuss airline bankruptcies from both a Thai law and international perspective. Our speakers -&nbsp\;<a href="https://www.linkedin.com/in/john-frangos-12672a5/">John Frangos</a>\, Partner at Tilleke &amp\; Gibbins\;&nbsp\;<a href="https://www.linkedin.com/in/waranon-warren-vanichprapa-bb714252/">Waranon (Warren) Vanichprapa</a>\, Partner at DLA Piper\; and&nbsp\;<a href="https://www.linkedin.com/in/james-bradley-4368176/">James Bradley</a>\,&nbsp\;Partner at K&amp\;L Gates -&nbsp\;&nbsp\;will cover debtor and creditor rights in a Thai bankruptcy reorganization proceeding\, how other aviation industry stakeholders fare in Thai bankruptcy reorganization proceedings\, and take a comparative look at how other countries handle airline bankruptcies.
LOCATION:Webinar
UID:e.3314.1830
SEQUENCE:3
DTSTAMP:20260422T063106Z
URL:https://connect.amchamthailand.com/events/details/joint-aerospace-council-legal-committee-bankruptcy-issues-in-the-aviation-industry-1830
END:VEVENT

END:VCALENDAR
