BEGIN:VCALENDAR
VERSION:2.0
PRODID:-//ChamberMaster//Event Calendar 2.0//EN
METHOD:PUBLISH
X-PUBLISHED-TTL:P3D
REFRESH-INTERVAL:P3D
CALSCALE:GREGORIAN
BEGIN:VEVENT
DTSTART:20200625T040000Z
DTEND:20200625T050000Z
X-MICROSOFT-CDO-ALLDAYEVENT:FALSE
SUMMARY:HR Committee Video Conference: Leadership and Trust Equation in Time of Uncertainty
DESCRIPTION:In the time of crisis and uncertainty\, how do leaders communicate with impact especially when there is a trust issue?  And while we have technology available to help us communicate\, are we doing that in a way that builds authentic and meaningful connections with one another? Doy Charnsupharindr\, an executive coach and leading instructor in business communications\, will share his insights on the art of authentic leadership communication and the lessons we can learn from the time of crisis. Topics will include: the 5 powers of authentic leadership and trust equation.\n\n\n\nOur Speaker: \n\nDoy Charnsupharindr is the CEO\, Berkeley Executive Coaching Institute (BECI) and an instructor on leadership\, communication and coaching skills of world-class MBA program in the US. He teaches at UC Berkeley?s Haas School of Business\, UC Davis? Graduate School of Management and the Center of Executive Education at UC Berkeley. \n\n\n\nSince 2014\, Charnsupharindr has collaborated with Thailand Management Association (TMA) in organizing a series of exclusive executive training courses such as Leadership Communication\, Leader as Coach and Leadership in a Virtual World in Bangkok.
X-ALT-DESC;FMTTYPE=text/html:In the time of crisis and uncertainty\, how do leaders communicate with impact especially when there is a trust issue?&nbsp\; And while we have technology available to help us communicate\, are we doing that in a way that builds authentic and meaningful connections with one another? Doy Charnsupharindr\, an executive coach and leading instructor in business communications\, will share his insights on the art of authentic leadership communication and the lessons we can learn from the time of crisis. Topics will include: the 5 powers of authentic leadership and trust equation.<br>\n<br>\n<strong>Our Speaker:&nbsp\;</strong><br>\n<a href="https://www.linkedin.com/in/doy-charnsupharindr-8225694/">Doy Charnsupharindr</a> is the CEO\, Berkeley Executive Coaching Institute (BECI) and an instructor on leadership\, communication and coaching skills of world-class MBA program in the US. He teaches at UC Berkeley?s Haas School of Business\, UC Davis? Graduate School of Management and the Center of Executive Education at UC Berkeley.&nbsp\;<br>\n<br>\nSince 2014\, Charnsupharindr has collaborated with Thailand Management Association (TMA) in organizing a series of exclusive executive training courses such as Leadership Communication\, Leader as Coach and Leadership in a Virtual World in Bangkok.
LOCATION:Video Conference
UID:e.3314.1617
SEQUENCE:3
DTSTAMP:20260422T222141Z
URL:https://connect.amchamthailand.com/events/details/hr-committee-video-conference-leadership-and-trust-equation-in-time-of-uncertainty-1617
END:VEVENT

END:VCALENDAR
