BEGIN:VCALENDAR
VERSION:2.0
PRODID:-//ChamberMaster//Event Calendar 2.0//EN
METHOD:PUBLISH
X-PUBLISHED-TTL:P3D
REFRESH-INTERVAL:P3D
CALSCALE:GREGORIAN
BEGIN:VEVENT
DTSTART:20190208T010000Z
DTEND:20190208T033000Z
X-MICROSOFT-CDO-ALLDAYEVENT:FALSE
SUMMARY:HR Committee: Thailand 4.0 - The Story of Agoda’s HR Transformation
DESCRIPTION:Join us to hear Jeffrey Lee\, Chief People Officer\, Agoda\, share the story of how they transformed their HR function to increase efficiency and productivity\, utilizing technology and a range of different tools. \n\n\n\nAs one of the worlds' largest hotel and accomodation booking platforms\, Agoda is transforming travel for millions of customers across the globe\, with a network of over 1\,000\,000 vacation rentals and hotels worldwide. Agoda employs over 3\,500 professionals from 70 nationalities in locations around the globe and over 1\,000 people in Thailand\n\n\n\nJeff oversees Agoda's people initiatives in more than 40 offices worldwide since assuming his role in 2016. He previously served as Agoda's People Operations & Compensation Director. He has led the design of processes\, implementation of systems and tools\, and shift to more data-driven People function to enable and support a 3x growth in Agoda's employee base during his 4 years at Agoda.\n\n \n\nHe previously served as a consultant with McKinsey & Company focused on serving clients on a range of operations\, organization design as well as human capital topics. Jeff is no stranger to the AmCham community\, having started his career in AmCham Singapore from 1998-1999. He later served in the U.S. Government including service as diplomat in the U.S. Embassy Beijing and in the Office of the U.S. Trade Representative where he was responsible for U.S.-China trade matters.
X-ALT-DESC;FMTTYPE=text/html:Join us to hear&nbsp\;Jeffrey Lee\, Chief People Officer\, Agoda\, share the story of how they transformed their HR function to increase efficiency and productivity\, utilizing technology and a range of different tools.&nbsp\;<br />\n<br />\nAs one of the worlds&#39\; largest hotel and accomodation booking platforms\, Agoda is transforming travel for millions of customers across the globe\, with a network of over 1\,000\,000 vacation rentals and hotels worldwide. Agoda employs over 3\,500 professionals from 70 nationalities in locations around the globe and over 1\,000 people in Thailand<br />\n<br />\nJeff oversees Agoda&rsquo\;s people initiatives in more than 40 offices worldwide since assuming his role in 2016. He previously served as Agoda&rsquo\;s People Operations &amp\; Compensation Director. He has led the design of processes\, implementation of systems and tools\, and shift to more data-driven People function to enable and support a 3x growth in Agoda&rsquo\;s employee base during his 4 years at Agoda.<br />\n&nbsp\;<br />\nHe previously served as a consultant with McKinsey &amp\; Company focused on serving clients on a range of operations\, organization design as well as human capital topics. Jeff is no stranger to the AmCham community\, having started his career in AmCham Singapore from 1998-1999. He later served in the U.S. Government including service as diplomat in the U.S. Embassy Beijing and in the Office of the U.S. Trade Representative where he was responsible for U.S.-China trade matters.<br />\n<br />\n&nbsp\;
LOCATION:The Westin Grande Sukhumvit\, Altitude Room 25th Floor BTS Asok Exit 5 MRT Sukhumvit Exit 3
UID:e.3314.125
SEQUENCE:3
DTSTAMP:20260424T000717Z
URL:https://connect.amchamthailand.com/events/details/hr-committee-thailand-4-0-the-story-of-agoda-s-hr-transformation-125
END:VEVENT

END:VCALENDAR
