BEGIN:VCALENDAR
VERSION:2.0
PRODID:-//ChamberMaster//Event Calendar 2.0//EN
METHOD:PUBLISH
X-PUBLISHED-TTL:P3D
REFRESH-INTERVAL:P3D
CALSCALE:GREGORIAN
BEGIN:VEVENT
DTSTART:20190823T010000Z
DTEND:20190823T033000Z
X-MICROSOFT-CDO-ALLDAYEVENT:FALSE
SUMMARY:HR Committee: Tales of Transformation: Practical Experiences Managing Change Across Asia
DESCRIPTION:Change is never easy\, and yet\, the pace of it is only accelerating. In this workshop\, you will have hands-on experience exploring practical transformation management tools. Join other HR practitioners and learn about the journey that led to the creation of these tools\, and share your own experiences with your fellow participants.\n\n\n\nOur Speaker\n\nChris Schultz is the Head of Learning & Organization Development at DKSH\, a 33\,000-employee Market Expansion Services company in 36 countries\, with an emphasis on Asia. He has lived and worked in Thailand and Hong Kong for 14 years.
X-ALT-DESC;FMTTYPE=text/html:Change is never easy\, and yet\, the pace of it is only accelerating. In this workshop\, you will have hands-on experience exploring practical transformation management tools. Join other HR practitioners and learn about the journey that led to the creation of these tools\, and share your own experiences with your fellow participants.<br />\n<br />\n<strong>Our Speaker</strong><br />\n<a href="https://www.linkedin.com/in/christopherdschultz/?originalSubdomain=th">Chris Schultz</a> is the Head of Learning &amp\; Organization Development at DKSH\, a 33\,000-employee Market Expansion Services company in 36 countries\, with an emphasis on Asia. He has lived and worked in Thailand and Hong Kong for 14 years.&nbsp\;
LOCATION:The Westin Grande Sukhumvit BTS Asok Exit 5 MRT Sukhumvit Exit 3
UID:e.3314.131
SEQUENCE:3
DTSTAMP:20260423T115708Z
URL:https://connect.amchamthailand.com/events/details/hr-committee-tales-of-transformation-practical-experiences-managing-change-across-asia-131
END:VEVENT

END:VCALENDAR
