BEGIN:VCALENDAR
VERSION:2.0
PRODID:-//ChamberMaster//Event Calendar 2.0//EN
METHOD:PUBLISH
X-PUBLISHED-TTL:P3D
REFRESH-INTERVAL:P3D
CALSCALE:GREGORIAN
BEGIN:VEVENT
DTSTART:20201201T080000Z
DTEND:20201201T100000Z
X-MICROSOFT-CDO-ALLDAYEVENT:FALSE
SUMMARY:HR Committee: Managing Your Remote Workforce: Real-World Challenges and Solutions
DESCRIPTION:This year has thrown businesses into all sorts of unprecedented situations. One of the most challenging has been the transition to remote working. Questions abound\, from how to keep engagement and team rapport high\, to when (or whether) to return employees to the office. This in-person workshop will be a chance for us to bring our questions and challenges and work together to share ideas and brainstorm solutions. We invite you to be part of the conversation as we work collectively to learn how best to manage remote workforces.\n\n\n\nSession Facilitator: Christopher Schultz\, Director\, Group Learning & Organization Development at DKSH Thailand.
X-ALT-DESC;FMTTYPE=text/html:This year has thrown businesses into all sorts of unprecedented situations. One of the most challenging has been the transition to remote working. Questions abound\, from how to keep engagement and team rapport high\, to when (or whether) to return employees to the office. This in-person workshop will be a chance for us to bring our questions and challenges and work together to share ideas and brainstorm solutions. We invite you to be part of the conversation as we work collectively to learn how best to manage remote workforces.<br />\n<br />\n<strong>Session Facilitator:</strong> <a href="https://www.linkedin.com/in/christopherdschultz/">Christopher Schultz</a>\,&nbsp\;Director\, Group Learning &amp\; Organization Development at DKSH Thailand.
LOCATION:Ballroom 2\, Sheraton Grande Sukhumvit BTS Asoke MRT Sukhumvit View map
UID:e.3314.1748
SEQUENCE:3
DTSTAMP:20260422T110850Z
URL:https://connect.amchamthailand.com/events/details/hr-committee-managing-your-remote-workforce-real-world-challenges-and-solutions-1748
END:VEVENT

END:VCALENDAR
