BEGIN:VCALENDAR
VERSION:2.0
PRODID:-//ChamberMaster//Event Calendar 2.0//EN
METHOD:PUBLISH
X-PUBLISHED-TTL:P3D
REFRESH-INTERVAL:P3D
CALSCALE:GREGORIAN
BEGIN:VEVENT
DTSTART:20210319T070000Z
DTEND:20210319T083000Z
X-MICROSOFT-CDO-ALLDAYEVENT:FALSE
SUMMARY:Healthcare Council Planning Meeting
DESCRIPTION:Healthcare Council is meeting to plan programming for 2021.
X-ALT-DESC;FMTTYPE=text/html:Healthcare Council is meeting to plan programming for 2021.
LOCATION:Video conference
UID:e.3314.1876
SEQUENCE:3
DTSTAMP:20260422T044941Z
URL:https://connect.amchamthailand.com/events/details/healthcare-council-planning-meeting-1876
END:VEVENT

END:VCALENDAR
