BEGIN:VCALENDAR
VERSION:2.0
PRODID:-//ChamberMaster//Event Calendar 2.0//EN
METHOD:PUBLISH
X-PUBLISHED-TTL:P3D
REFRESH-INTERVAL:P3D
CALSCALE:GREGORIAN
BEGIN:VEVENT
DTSTART:20210210T020000Z
DTEND:20210210T033000Z
X-MICROSOFT-CDO-ALLDAYEVENT:FALSE
SUMMARY:Healthcare Council Planning Meeting
DESCRIPTION:Healthcare Council is meeting to plan programming for 2021.
X-ALT-DESC;FMTTYPE=text/html:<div style="box-sizing: border-box\; font-family: &quot\;Segoe UI&quot\;\, system-ui\, &quot\;Apple Color Emoji&quot\;\, &quot\;Segoe UI Emoji&quot\;\, sans-serif\; font-size: 14px\;">Healthcare Council is meeting to plan programming for 2021.</div>\n
LOCATION:Video conference
UID:e.3314.1844
SEQUENCE:3
DTSTAMP:20260422T062621Z
URL:https://connect.amchamthailand.com/events/details/healthcare-council-planning-meeting-1844
END:VEVENT

END:VCALENDAR
