BEGIN:VCALENDAR
VERSION:2.0
PRODID:-//ChamberMaster//Event Calendar 2.0//EN
METHOD:PUBLISH
X-PUBLISHED-TTL:P3D
REFRESH-INTERVAL:P3D
CALSCALE:GREGORIAN
BEGIN:VEVENT
DTSTART:20230327T020000Z
DTEND:20230327T030000Z
X-MICROSOFT-CDO-ALLDAYEVENT:FALSE
SUMMARY:Healthcare Council: March 2023 Video Conference
DESCRIPTION:The Healthcare Council gathers industry stakeholders\, including hospitals\, pharmaceuticals\, medical devices\, insurers and other interested companies to discuss current issues affecting the industry\, find solutions\, and collaborate on advocacy and programming initiatives.\n\n\n\nThe next Healthcare Council meeting will convene virtually on March 27. The meeting agenda will be updated shortly.\n\n\n\nPlease note that all AMCHAM members are welcome to join Council Meetings. If you would like more information on activities of the Healthcare Council\, please contact bonus@amchamthailand.com.
X-ALT-DESC;FMTTYPE=text/html:The Healthcare Council gathers industry stakeholders\, including hospitals\, pharmaceuticals\, medical devices\, insurers and other interested companies to discuss current issues affecting the industry\, find solutions\, and collaborate on advocacy and programming initiatives.<br />\n<br />\nThe next Healthcare Council meeting will convene virtually on March 27. The meeting agenda will be updated shortly.<br color:="" font-size:="" open="" />\n<br color:="" font-size:="" open="" />\nPlease note that all AMCHAM members are welcome to join Council Meetings. If you would like more information on activities of the Healthcare Council\, please contact bonus@amchamthailand.com.&nbsp\;&nbsp\;&nbsp\;
LOCATION:Online videoconference
UID:e.3314.2491
SEQUENCE:3
DTSTAMP:20260420T071119Z
URL:https://connect.amchamthailand.com/events/details/healthcare-council-march-2023-video-conference-2491
END:VEVENT

END:VCALENDAR
