BEGIN:VCALENDAR
VERSION:2.0
PRODID:-//ChamberMaster//Event Calendar 2.0//EN
METHOD:PUBLISH
X-PUBLISHED-TTL:P3D
REFRESH-INTERVAL:P3D
CALSCALE:GREGORIAN
BEGIN:VEVENT
DTSTART:20220316T020000Z
DTEND:20220316T030000Z
X-MICROSOFT-CDO-ALLDAYEVENT:FALSE
SUMMARY:Government Affairs Council: March 2022 Video Conference
DESCRIPTION:The Government Affairs Council will convene virtually on March 16. The meeting agenda will be updated.\n\n \n\nAll AMCHAM members are welcome to attend the Government Affairs Council meetings to stay abreast of the policy priorities that AMCHAM advocates for on behalf of members. Advance registration is necessary.\n\n \n\nMembership in the AMCHAM Thailand Government Affairs Council is open to managers of government relations and public affairs of AMCHAM Thailand member companies.\n\n \n\nTo continue to receive updates on our advocacy meetings and activities\, or to request to join the Council\, please contact theeta@amchamthailand.com
X-ALT-DESC;FMTTYPE=text/html:The Government Affairs Council will convene virtually on March 16. The meeting agenda will be updated.<br color:="" font-size:="" open="" />\n&nbsp\;<br color:="" font-size:="" open="" />\nAll AMCHAM members are welcome to attend the Government Affairs Council meetings to stay abreast of the policy priorities that AMCHAM advocates for on behalf of members. Advance registration is necessary.<br color:="" font-size:="" open="" />\n&nbsp\;<br color:="" font-size:="" open="" />\nMembership in the AMCHAM Thailand Government Affairs Council is open to managers of government relations and public affairs of AMCHAM Thailand member companies.<br color:="" font-size:="" open="" />\n&nbsp\;<br color:="" font-size:="" open="" />\nTo continue to receive updates on our advocacy meetings and activities\, or to request to join the Council\, please contact theeta@amchamthailand.com
LOCATION:Video conference
UID:e.3314.2119
SEQUENCE:3
DTSTAMP:20260421T052356Z
URL:https://connect.amchamthailand.com/events/details/government-affairs-council-march-2022-video-conference-2119
END:VEVENT

END:VCALENDAR
