BEGIN:VCALENDAR
VERSION:2.0
PRODID:-//ChamberMaster//Event Calendar 2.0//EN
METHOD:PUBLISH
X-PUBLISHED-TTL:P3D
REFRESH-INTERVAL:P3D
CALSCALE:GREGORIAN
BEGIN:VEVENT
DTSTART:20190322T010000Z
DTEND:20190322T020000Z
X-MICROSOFT-CDO-ALLDAYEVENT:FALSE
SUMMARY:Government Affairs Council: March 2019 Meeting
DESCRIPTION:The Government Affairs Council will convene to discuss the following topics:\n\n	Advocacy Report   March 2019.\n	APCAC advocacy work.\n	Updating AMCHAM White Paper.\n	AMCHAM Road Safety Campaign.\n\nGovernment Affairs Council members and Government Affairs managers from AMCHAM member companies are all invited to attend.
X-ALT-DESC;FMTTYPE=text/html:The Government Affairs Council will convene to discuss the following topics:\n<ul>\n	<li>Advocacy Report &ndash\; March 2019.</li>\n	<li>APCAC advocacy work.</li>\n	<li>Updating AMCHAM White Paper.</li>\n	<li>AMCHAM Road Safety Campaign.</li>\n</ul>\nGovernment Affairs Council members and Government Affairs managers from AMCHAM member companies are all invited to attend.
LOCATION:AMCHAM Office\, Citi Boardroom BTS: Ploenchit
UID:e.3314.278
SEQUENCE:3
DTSTAMP:20260423T221325Z
URL:https://connect.amchamthailand.com/events/details/government-affairs-council-march-2019-meeting-278
END:VEVENT

END:VCALENDAR
