BEGIN:VCALENDAR
VERSION:2.0
PRODID:-//ChamberMaster//Event Calendar 2.0//EN
METHOD:PUBLISH
X-PUBLISHED-TTL:P3D
REFRESH-INTERVAL:P3D
CALSCALE:GREGORIAN
BEGIN:VEVENT
DTSTART:20200623T020000Z
DTEND:20200623T033000Z
X-MICROSOFT-CDO-ALLDAYEVENT:FALSE
SUMMARY:Government Affairs Council: June 2020 Video Conference
DESCRIPTION:The Government Affairs Council will convene on June 23 with the following agenda:\n\n\n	The Government Affairs and Public Policy Report: June 2020.\n	The GA Council White Paper - "Better than Before".\n	FCA letter to Minister of Finance on social security payment.\n	The Customs & Excise draft letter/position paper on "proposal of relief measures to alleviate Covid-19 impact on business".\n	Foreign nationals with work permits can apply to enter Thailand during the Covid-19 crisis. \n	Other matters.\n\nAll AMCHAM members are welcome to attend the Government Affairs Council meetings to stay abreast of the policy priorities that AMCHAM advocates for on behalf of members. Advance registration is necessary\, as we do not accept walk-ins or non-member guests for these meetings.\n\n\n\nMembership in the AMCHAM Thailand Government Affairs Council is open to managers of government relations and public affairs of AMCHAM Thailand member companies.\nTo continue to receive updates on our advocacy meetings and activities\, or to request to join the Council\, please contact kittie@amchamthailand.com.
X-ALT-DESC;FMTTYPE=text/html:<p>The Government Affairs Council will convene on June 23&nbsp\;with the following agenda:</p>\n\n<ul type="disc">\n	<li>The Government Affairs and Public Policy Report: June 2020.</li>\n	<li>The GA Council White Paper - &quot\;Better than Before&quot\;.</li>\n	<li>FCA letter to Minister of Finance on social security payment.</li>\n	<li>The Customs &amp\; Excise draft letter/position paper on &quot\;proposal of relief measures to alleviate Covid-19 impact on business&quot\;.</li>\n	<li>Foreign nationals with work permits can apply to enter Thailand during the Covid-19 crisis.&nbsp\;</li>\n	<li>Other matters.</li>\n</ul>\nAll AMCHAM members are welcome to attend the Government Affairs Council meetings to stay abreast of the policy priorities that AMCHAM advocates for on behalf of members. Advance registration is necessary\, as we do not accept walk-ins or non-member guests for these meetings.<br />\n<br />\nMembership in the AMCHAM Thailand Government Affairs Council is open to managers of government relations and public affairs of AMCHAM Thailand member companies.\n<p>To continue to receive updates on our advocacy meetings and activities\, or to request to join the Council\, please contact <a href="mailto:kittie@amchamthailand.com">kittie@amchamthailand.com</a>.</p>\n
LOCATION:Video conference Meeting
UID:e.3314.1554
SEQUENCE:3
DTSTAMP:20260422T201956Z
URL:https://connect.amchamthailand.com/events/details/government-affairs-council-june-2020-video-conference-1554
END:VEVENT

END:VCALENDAR
