BEGIN:VCALENDAR
VERSION:2.0
PRODID:-//ChamberMaster//Event Calendar 2.0//EN
METHOD:PUBLISH
X-PUBLISHED-TTL:P3D
REFRESH-INTERVAL:P3D
CALSCALE:GREGORIAN
BEGIN:VEVENT
DTSTART:20200730T020000Z
DTEND:20200730T033000Z
X-MICROSOFT-CDO-ALLDAYEVENT:FALSE
SUMMARY:Government Affairs Council: July 2020 Video Conference
DESCRIPTION:The Government Affairs Council will convene on July 30 with the following agenda:\n\n\n	The Government Affairs and Public Policy Report: July 2020.\n	The summary of AMCHAM meeting with Secretary General of the BOI.\n	The summary of AMCHAM meeting with Minister of Tourism and sports.\n	The Status of the Customs and Excise Council letters to Director General of the Customs Department and Director General of the Excise Department.\n	Revision of the AMCHAM Position Paper on Visas and Work Permits.\n	Other matters.\n\nAll AMCHAM members are welcome to attend the Government Affairs Council meetings to stay abreast of the policy priorities that AMCHAM advocates for on behalf of members. Advance registration is necessary\, as we do not accept walk-ins or non-member guests for these meetings.\n\n\n\nMembership in the AMCHAM Thailand Government Affairs Council is open to managers of government relations and public affairs of AMCHAM Thailand member companies.\nTo continue to receive updates on our advocacy meetings and activities\, or to request to join the Council\, please contact kittie@amchamthailand.com.
X-ALT-DESC;FMTTYPE=text/html:<p>The Government Affairs Council will convene on July 30 with the following agenda:</p>\n\n<ul type="disc">\n	<li>The Government Affairs and Public Policy Report: July 2020.</li>\n	<li>The summary of AMCHAM meeting with Secretary General of the BOI.</li>\n	<li>The summary of AMCHAM meeting with Minister of Tourism and sports.</li>\n	<li>The Status of the Customs and Excise Council letters to Director General of the Customs Department and Director General of the Excise Department.</li>\n	<li>Revision of the AMCHAM Position Paper on Visas and Work Permits.</li>\n	<li>Other matters.</li>\n</ul>\nAll AMCHAM members are welcome to attend the Government Affairs Council meetings to stay abreast of the policy priorities that AMCHAM advocates for on behalf of members. Advance registration is necessary\, as we do not accept walk-ins or non-member guests for these meetings.<br />\n<br />\nMembership in the AMCHAM Thailand Government Affairs Council is open to managers of government relations and public affairs of AMCHAM Thailand member companies.\n<p>To continue to receive updates on our advocacy meetings and activities\, or to request to join the Council\, please contact <a href="mailto:kittie@amchamthailand.com">kittie@amchamthailand.com</a>.</p>\n
LOCATION:Video conference meeting
UID:e.3314.1633
SEQUENCE:3
DTSTAMP:20260422T182703Z
URL:https://connect.amchamthailand.com/events/details/government-affairs-council-july-2020-video-conference-1633
END:VEVENT

END:VCALENDAR
