BEGIN:VCALENDAR
VERSION:2.0
PRODID:-//ChamberMaster//Event Calendar 2.0//EN
METHOD:PUBLISH
X-PUBLISHED-TTL:P3D
REFRESH-INTERVAL:P3D
CALSCALE:GREGORIAN
BEGIN:VEVENT
DTSTART:20190829T020000Z
DTEND:20190829T033000Z
X-MICROSOFT-CDO-ALLDAYEVENT:FALSE
SUMMARY:Government Affairs Council: August Meeting
DESCRIPTION:Our Government Affairs Council will convene on August 29th to present the final draft of the AMCHAM White Paper. This five-page position paper\, prepared in consultation with AMCHAM committee chairs and the general membership\, will be presented by AMCHAM representatives during upcoming courtesy calls with new and returning Ministers and outlines an array of critical issues and "quick wins" that the new government and AMCHAM can collaborate on in the year ahead.\n\n \n\nOther topics to be discussed include:\n\n	AMCHAM advocacy activity in July/August 2019\n	AMCHAM Road Safety Campaign with the Ministry of Transport\n	Updates from the Foreign Chamber Alliance\n	Updates from the APCAC and the Washington D.C. Doorknock\n	Member feedback on calls for a 400-baht daily minimum wage\n	US-ASEAN Business Council   2019 Thailand Business Mission\n\nAll AMCHAM members are welcome to attend our Government Affairs Council meetings to stay abreast of the policy priorities that AMCHAM advocates for on behalf of our members. Advance registration is necessary\, as we do not accept walk-ins or non-member guests for these meetings.\n\nMembership in the AMCHAM Thailand Government Affairs Council is open to managers of government relations and public affairs of AMCHAM Thailand corporate members and other government affairs professionals in Thailand.\n\n\n\nTo continue to receive updates on our advocacy meetings and activities\, or to request to join the Council\, please contact kittie@amchamthailand.com.
X-ALT-DESC;FMTTYPE=text/html:Our Government Affairs Council will convene on August 29th to present the final draft of the AMCHAM White Paper. This five-page position paper\, prepared in consultation with AMCHAM committee chairs and the general membership\, will be presented by AMCHAM representatives during upcoming courtesy calls with new and returning Ministers and outlines an array of critical issues and &ldquo\;quick wins&rdquo\; that the new government and AMCHAM can collaborate on in the year ahead.<br />\n&nbsp\;<br />\nOther topics to be discussed include:\n<ul>\n	<li>AMCHAM advocacy activity in July/August 2019</li>\n	<li>AMCHAM Road Safety Campaign with the Ministry of Transport</li>\n	<li>Updates from the Foreign Chamber Alliance</li>\n	<li>Updates from the APCAC and the Washington D.C. Doorknock</li>\n	<li>Member feedback on calls for a 400-baht daily minimum wage</li>\n	<li>US-ASEAN Business Council &ndash\; 2019 Thailand Business Mission</li>\n</ul>\nAll AMCHAM members are welcome to attend our Government Affairs Council meetings to stay abreast of the policy priorities that AMCHAM advocates for on behalf of our members. Advance registration is necessary\, as we do not accept walk-ins or non-member guests for these meetings.\n\n<p>Membership in the AMCHAM Thailand Government Affairs Council is open to managers of government relations and public affairs of AMCHAM Thailand corporate members and other government affairs professionals in Thailand.<br />\n<br />\nTo continue to receive updates on our advocacy meetings and activities\, or to request to join the Council\, please contact <a href="mailto:kittie@amchamthailand.com">kittie@amchamthailand.com</a>.</p>\n\n<p>&nbsp\;</p>\n
LOCATION:AMCHAM Office\, Citi Boardroom BTS: Ploenchit
UID:e.3314.381
SEQUENCE:3
DTSTAMP:20260423T115449Z
URL:https://connect.amchamthailand.com/events/details/government-affairs-council-august-meeting-381
END:VEVENT

END:VCALENDAR
