BEGIN:VCALENDAR
VERSION:2.0
PRODID:-//ChamberMaster//Event Calendar 2.0//EN
METHOD:PUBLISH
X-PUBLISHED-TTL:P3D
REFRESH-INTERVAL:P3D
CALSCALE:GREGORIAN
BEGIN:VEVENT
DTSTART:20220420T020000Z
DTEND:20220420T030000Z
X-MICROSOFT-CDO-ALLDAYEVENT:FALSE
SUMMARY:Government Affairs Council: April 2022 Video Conference
DESCRIPTION:The Government Affairs Council will convene virtually on April 20.\n\n\n\nKindly see below the agenda to be discussed during our meeting.\n\n	Engagements with Governments\n	\n		Virtual Roundtable Meeting with the Permanent-Secretary of the Ministry of Foreign Affairs\, March 22\n		Virtual Membership Meeting with the Minister of Natural Resources and Environment\, March 24\n		Consultation Meeting with the Department of Intellectual Property\, March 30\n	\n	\n	Update on AMCHAM Papers\n	\n		AMCHAM Recommendation Paper on Long Term Residence (LTR) Visa Scheme\n		AMCHAM Position Paper on Responsible Hospitality and Tourism Recovery\n		AMCHAM Letter on Business Impact of Suggested Changes to the Elderly Person and National Basic Pension Bill\n	\n	\n	Paper for Approval\n	\n		AMCHAM Recommendation Paper on Social Security Contributions for the Covid-19 Recovery\n	\n	\n	Upcoming Engagements with Governments\n	Other matters\n\n\n\n \n\nAll AMCHAM members are welcome to attend the Government Affairs Council meetings to stay abreast of the policy priorities that AMCHAM advocates for on behalf of members. Advance registration is necessary.\n\n \n\nMembership in the AMCHAM Thailand Government Affairs Council is open to managers of government relations and public affairs of AMCHAM Thailand member companies.\n\n \n\nTo continue to receive updates on our advocacy meetings and activities\, or to request to join the Council\, please contact theeta@amchamthailand.com
X-ALT-DESC;FMTTYPE=text/html:The Government Affairs Council will convene virtually on April 20.<br />\n<br />\nKindly see below the&nbsp\;agenda to be discussed during our meeting.\n<ul>\n	<li>Engagements with Governments\n	<ul>\n		<li>Virtual Roundtable Meeting with the Permanent-Secretary of the Ministry of Foreign Affairs\, March 22</li>\n		<li>Virtual Membership Meeting with the Minister of Natural Resources and Environment\, March 24</li>\n		<li>Consultation Meeting with the Department of Intellectual Property\, March 30</li>\n	</ul>\n	</li>\n	<li>Update on AMCHAM Papers\n	<ul>\n		<li>AMCHAM Recommendation Paper on Long Term Residence (LTR) Visa Scheme</li>\n		<li>AMCHAM Position Paper on Responsible Hospitality and Tourism Recovery</li>\n		<li>AMCHAM Letter on Business Impact of Suggested Changes to the Elderly Person and National Basic Pension Bill</li>\n	</ul>\n	</li>\n	<li>Paper for Approval\n	<ul>\n		<li>AMCHAM Recommendation Paper on Social Security Contributions for the Covid-19 Recovery</li>\n	</ul>\n	</li>\n	<li>Upcoming Engagements with Governments</li>\n	<li>Other matters</li>\n</ul>\n<br color:="" font-size:="" open="" />\n&nbsp\;<br color:="" font-size:="" open="" />\nAll AMCHAM members are welcome to attend the Government Affairs Council meetings to stay abreast of the policy priorities that AMCHAM advocates for on behalf of members. Advance registration is necessary.<br color:="" font-size:="" open="" />\n&nbsp\;<br color:="" font-size:="" open="" />\nMembership in the AMCHAM Thailand Government Affairs Council is open to managers of government relations and public affairs of AMCHAM Thailand member companies.<br color:="" font-size:="" open="" />\n&nbsp\;<br color:="" font-size:="" open="" />\nTo continue to receive updates on our advocacy meetings and activities\, or to request to join the Council\, please contact theeta@amchamthailand.com
LOCATION:Video Conference
UID:e.3314.2113
SEQUENCE:3
DTSTAMP:20260421T051442Z
URL:https://connect.amchamthailand.com/events/details/government-affairs-council-april-2022-video-conference-2113
END:VEVENT

END:VCALENDAR
