BEGIN:VCALENDAR
VERSION:2.0
PRODID:-//ChamberMaster//Event Calendar 2.0//EN
METHOD:PUBLISH
X-PUBLISHED-TTL:P3D
REFRESH-INTERVAL:P3D
CALSCALE:GREGORIAN
BEGIN:VEVENT
DTSTART:20200609T143000Z
DTEND:20200609T153000Z
X-MICROSOFT-CDO-ALLDAYEVENT:FALSE
SUMMARY:From Great Lockdown to Great Transformation
DESCRIPTION:The U.S. Chamber of Commerce cordially invites you to join them for a webcast "From Great Lockdown to Great Transformation"\, a business community forum on sustainable global recovery featuring Kristalina Georgieva\, Managing Director of the International Monetary Fund.   \n\n\n\nDuring the virtual event\, U.S. Chamber CEO Tom Donohue\, U.S. Chamber Executive Vice President and Head of International Affairs Myron Brilliant and IMF Managing Director Kristalina Georgieva will discuss pathways to resilient economic models that address a greener recovery\, climate change\, job creation and a more equitable society.   \n\n\n\nREGISTER HERE
X-ALT-DESC;FMTTYPE=text/html:The U.S. Chamber of Commerce cordially invites you to join them for a webcast &quot\;From Great Lockdown to Great Transformation&quot\;\, <span style="color: rgb(51\, 51\, 51)\; font-family: sans-serif\, Arial\, Verdana\, &quot\;Trebuchet MS&quot\;\; font-size: 13px\; background-color: rgb(255\, 255\, 255)\;">a business community forum on sustainable global recovery</span>&nbsp\;featuring&nbsp\;Kristalina Georgieva\, Managing Director&nbsp\;of the International Monetary Fund.&nbsp\;&nbsp\;&nbsp\;<br />\n<br />\nDuring the virtual event\, U.S. Chamber CEO Tom Donohue\, U.S. Chamber Executive Vice President and Head of International Affairs Myron Brilliant and IMF Managing Director Kristalina Georgieva will discuss pathways to resilient economic models that address a greener recovery\, climate change\, job creation and a more equitable society.&nbsp\;&nbsp\;&nbsp\;<br />\n<br />\n<span style="font-size:14px\;"><a href="http://click.uschamber.com/?qs=9e76a51ba582bc3deae4ec624066f1a43d8443ca0732dde6090652fc5a9eaf965a1484b0602be9394afa1600d791e392c7b69bfe4027ffa2"><span style="color:#B22222\;"><strong>REGISTER HERE</strong></span></a></span><br />\n<br />\n&nbsp\;
LOCATION:
UID:e.3314.1630
SEQUENCE:3
DTSTAMP:20260422T200847Z
URL:https://connect.amchamthailand.com/events/details/from-great-lockdown-to-great-transformation-1630
END:VEVENT

END:VCALENDAR
