BEGIN:VCALENDAR
VERSION:2.0
PRODID:-//ChamberMaster//Event Calendar 2.0//EN
METHOD:PUBLISH
X-PUBLISHED-TTL:P3D
REFRESH-INTERVAL:P3D
CALSCALE:GREGORIAN
BEGIN:VEVENT
DTSTART:20190823T100000Z
DTEND:20190823T110000Z
X-MICROSOFT-CDO-ALLDAYEVENT:FALSE
SUMMARY:Foreign Chambers Alliance (FCA) Eastern Seaboard Business Briefing
DESCRIPTION:REGISTER NOW\n\nThe Foreign Chambers Alliance (FCA) Eastern Seaboard Business is hosting a Briefing on "Developing Talent in the Eastern Economic Corridor   The Vocational Education Solution". \n\nIntroduction/MC: Chris Thatcher\, Chair BCCT & Chairman Anglo-Thai Legal\n\nPanel:\n\n\n	Frank Holzer - General Manager\, ANCA Sheet Metal Solutions (Thailand) Ltd & Chairman\, Manufacturing Focus Group (profile)\n	Markus Hoffmann - Project Director\, German-Thai Dual Excellence Education of GTCC\n	Jantima Hiraga - Country Manager Thailand\, Pearson Education
X-ALT-DESC;FMTTYPE=text/html:<p><a href="https://members.bccthai.com/BCCT/asp/eventdetail.asp?EventID=3468&amp\;SponsorID=-1">REGISTER NOW</a><br />\nThe Foreign Chambers Alliance (FCA) Eastern Seaboard Business is hosting a Briefing on &ldquo\;Developing Talent in the Eastern Economic Corridor &ndash\; The Vocational Education Solution&rdquo\;.&nbsp\;<br />\nIntroduction/MC: Chris Thatcher\, Chair BCCT &amp\; Chairman Anglo-Thai Legal</p>\n\n<p>Panel:</p>\n\n<ul>\n	<li>Frank Holzer - General Manager\, ANCA Sheet Metal Solutions (Thailand) Ltd &amp\; Chairman\, Manufacturing Focus Group (profile)</li>\n	<li>Markus Hoffmann - Project Director\, German-Thai Dual Excellence Education of GTCC</li>\n	<li>Jantima Hiraga - Country Manager Thailand\, Pearson Education</li>\n</ul>\n
LOCATION:Location: Holiday Inn Pattaya
UID:e.3314.383
SEQUENCE:3
DTSTAMP:20260423T115509Z
URL:https://connect.amchamthailand.com/events/details/foreign-chambers-alliance-fca-eastern-seaboard-business-briefing-383
END:VEVENT

END:VCALENDAR
