BEGIN:VCALENDAR
VERSION:2.0
PRODID:-//ChamberMaster//Event Calendar 2.0//EN
METHOD:PUBLISH
X-PUBLISHED-TTL:P3D
REFRESH-INTERVAL:P3D
CALSCALE:GREGORIAN
BEGIN:VEVENT
DTSTART:20201120T043000Z
DTEND:20201120T100000Z
X-MICROSOFT-CDO-ALLDAYEVENT:FALSE
SUMMARY:FCA Charitee Friendship Golf Tournament 2020
DESCRIPTION:Please join us at the AMATA Spring Country Club for the premier Foreign Chambers Alliance (FCA) Charitee Friendship Golf Tournament! The Foreign Chambers Alliance is the American\, Australian\, British and German Chambers of Commerce. \n\n\n\nFormat: 36 System Stableford. Please be sure to add your handicap to your event registration. Prizes will be awarded to the team with the top net score\, and the individual winner of A\,B\, and C Flights\, along with longest drive\, closest to the pin etc. \n\n\n\nEligibility: First 120 entries received with payment. You may enter as a team of 4\, or we will assign players onto teams who sign up individually. \n\n\n\nDeadline for booking: November 7\, 2020\n\nTHANK YOU TO OUR SPONSORS:\n\n\n\nPlatinum Sponsors:\n\n\n	Citibank\n\n\nGold Sponsors:\n\n\n	General Motors \n	Philip Morris\n	International School of Bangkok\n	Total Access Communication \n	Western Digital \n\n\nVenue Sponsorship:\n\n\n	AMATA Springs Country Club\n\n50\,000 Baht Sponsorship:\n\n\n	Aetna Health Insurance\n\n \n\nSponsorships still available\, proceeds benefit the AMCHAM Thailand Foundation (ATF): \n\n\n	50\,000 Baht Sponsor: Includes a team of 4 players\, sponsorship recognition on pre-event promotions\, during the event (booth or hole sponsorship) and in post event coverage online and in T-AB Magazine. \n	Prize Sponsor: Company's logo on prize banner\, logo on T-AB Magazine golf coverage.  \n\nThe American Chamber of Commerce in Thailand Foundation (ATF) scholarship program offers tuition for high-achieving Thai university students from disadvantaged backgrounds.
X-ALT-DESC;FMTTYPE=text/html:<p>Please join us at the AMATA Spring Country Club for the premier Foreign Chambers Alliance (FCA) Charitee Friendship&nbsp\;Golf Tournament! The Foreign Chambers Alliance is the American\, Australian\, British&nbsp\;and German Chambers of Commerce.&nbsp\;<br />\n<br />\nFormat: 36 System Stableford. Please be sure to add your handicap to your event registration. Prizes will be awarded to the team with the top net score\, and the individual winner&nbsp\;of A\,B\, and C Flights\, along with longest drive\, closest to the pin etc.&nbsp\;<br />\n<br />\nEligibility: First 120&nbsp\;entries&nbsp\;received with payment. You may enter as a team of 4\, or we will assign players onto teams who sign up individually.&nbsp\;<br />\n<br />\nDeadline for booking: November 7\, 2020</p>\n\n<p>THANK YOU TO OUR SPONSORS:<br />\n<br />\nPlatinum Sponsors:</p>\n\n<ul>\n	<li>Citibank</li>\n</ul>\n\n<p>Gold Sponsors:</p>\n\n<ul>\n	<li>General Motors&nbsp\;</li>\n	<li>Philip Morris</li>\n	<li>International School of Bangkok</li>\n	<li>Total Access Communication&nbsp\;</li>\n	<li>Western Digital&nbsp\;</li>\n</ul>\n\n<p>Venue Sponsorship:</p>\n\n<ul>\n	<li>AMATA Springs Country Club</li>\n</ul>\n50\,000 Baht Sponsorship:\n\n<ul>\n	<li>Aetna Health Insurance</li>\n</ul>\n&nbsp\;\n\n<p>Sponsorships still available\, proceeds benefit the <a href="https://www.amchamthailand.com/foundation/">AMCHAM Thailand Foundation</a> (ATF):&nbsp\;</p>\n\n<ul>\n	<li>50\,000 Baht Sponsor: Includes a&nbsp\;team of 4 players\, sponsorship recognition on pre-event promotions\,&nbsp\;during the event (booth or hole sponsorship) and in post event coverage online and in T-AB&nbsp\;Magazine.&nbsp\;</li>\n	<li>Prize Sponsor: Company&#39\;s logo on prize banner\,&nbsp\;logo on T-AB Magazine golf coverage.&nbsp\;&nbsp\;</li>\n</ul>\nThe American Chamber of Commerce in Thailand Foundation (ATF) scholarship program offers tuition for high-achieving Thai university students from disadvantaged backgrounds.
LOCATION:Amata Spring Country Club\, Chonburi
UID:e.3314.1715
SEQUENCE:3
DTSTAMP:20260422T113900Z
URL:https://connect.amchamthailand.com/events/details/fca-charitee-friendship-golf-tournament-2020-1715
END:VEVENT

END:VCALENDAR
