BEGIN:VCALENDAR
VERSION:2.0
PRODID:-//ChamberMaster//Event Calendar 2.0//EN
METHOD:PUBLISH
X-PUBLISHED-TTL:P3D
REFRESH-INTERVAL:P3D
CALSCALE:GREGORIAN
BEGIN:VEVENT
DTSTART:20200117T110000Z
DTEND:20200117T140000Z
X-MICROSOFT-CDO-ALLDAYEVENT:FALSE
SUMMARY:Eastern Seaboard Networking
DESCRIPTION:AMCHAM together with The SATCC\, BeluThai\, AustCham\, BCCT\, GTCC\, NTCC and STCC\, are hosting The Bromsgrove International School Combined Chamber Networking Evening @Intercontinental Pattaya Resort on Friday\, January 17th\, 2019\, 6 - 9 pm. Please come and join this exellence networking evening!\n\nReservation by sending via e-mail to: comms.satcc@gmail.com\n\n \n\nSpecial room rate @Intercontinental Pattaya Resort\n\n\n	Room Classic Ocean View (51 SQM) THB 4\,600++ for 1 night | THB 3\,910++ for 2 nights\n	Club InterContinental Tropical Terrace Suite (77 SQM) THB 6\,600++ for 1 night | THB 5\,610++ for 2 nights\n	Club InterContinental Ocean ViewTerrace Suite (77 SQM) THB 8\,700++ for 1 night | THB 7\,6395++ for 2 nights\n\n\nRESERVATIONS: All reservations to the Reservations Department of the Hotel.\n\nTel: +66 (0) 38 259 888\n\nEmail : wachiraphan.froehlich@ihg.com
X-ALT-DESC;FMTTYPE=text/html:<div>AMCHAM together with The SATCC\, BeluThai\,&nbsp\;AustCham\, BCCT\, GTCC\, NTCC and STCC\, are hosting The Bromsgrove International School Combined Chamber Networking Evening @Intercontinental&nbsp\;Pattaya Resort on Friday\, January&nbsp\;17th\, 2019\, 6&nbsp\;- 9 pm.&nbsp\;Please come and join this&nbsp\;exellence networking evening!<br />\n<span style="font-size:14px\;"><span style="color:#FF0000\;"><strong>Reservation by sending via e-mail to: comms.satcc@gmail.com</strong></span></span></div>\n\n<div>&nbsp\;</div>\n\n<div><strong>Special room rate @Intercontinental Pattaya Resort</strong></div>\n\n<ul>\n	<li>Room Classic Ocean View (51 SQM) THB 4\,600++ for 1 night | THB 3\,910++ for 2 nights</li>\n	<li>Club InterContinental Tropical Terrace Suite (77 SQM) THB 6\,600++ for 1 night | THB 5\,610++ for 2 nights</li>\n	<li>Club InterContinental Ocean ViewTerrace Suite (77 SQM) THB 8\,700++ for 1 night | THB 7\,6395++ for 2 nights</li>\n</ul>\n\n<div><strong>RESERVATIONS:</strong> All reservations to the Reservations Department of the Hotel.<br />\nTel: +66 (0) 38 259 888<br />\nEmail : wachiraphan.froehlich@ihg.com</div>\n
LOCATION:InterContinental Pattaya Resort View map
UID:e.3314.486
SEQUENCE:3
DTSTAMP:20260420T100304Z
URL:https://connect.amchamthailand.com/events/details/eastern-seaboard-networking-486
END:VEVENT

END:VCALENDAR
