BEGIN:VCALENDAR
VERSION:2.0
PRODID:-//ChamberMaster//Event Calendar 2.0//EN
METHOD:PUBLISH
X-PUBLISHED-TTL:P3D
REFRESH-INTERVAL:P3D
CALSCALE:GREGORIAN
BEGIN:VEVENT
DTSTART:20210323T070000Z
DTEND:20210323T080000Z
X-MICROSOFT-CDO-ALLDAYEVENT:FALSE
SUMMARY:Digital Economy Committee: PDPA Preparedness Series: Technical Considerations - Part 1
DESCRIPTION:In the previous webinars in this series\, we have learned what Personally Identifiable Information (PII) is and how to manage the ways in which it enters your organization. But what are the compliance obligations once that data has been collected? What are the technical issues we need to care about in managing any sensitive information we control? Topics in this webinar include securing PII and defining the necessary access permissions\, as well as ensuring that individual records can be removed if the data subject requests it. How should data backups and PII stored in older\, legacy systems be handled? What actions are required if a data breach is detected?\n\n\n\nOur speaker:\n\nAlex Cespedes is an Independent Data Protection Consultant. Alex is a data protection consultant supporting organizations in Thailand to reach compliance with the Personal Data Protection Act (PDPA) and the Cybersecurity Act\, while leveraging his EU experience with the General Data Protection Regulation (GDPR) and the Directive for Network and Information Security (NIS Directive). \n\n\n\nAlex is also the chair of the International Association of Privacy Professionals (IAPP) KnowledgeNet Chapter in Bangkok. In this context he organizes learning and networking events with representatives from industry and academia. In the past 10 years\, Alex has worked on data risk and compliance projects across Europe\, both in the private and public sector. He has developed a multidisciplinary approach to solving data protection issues from an organizational\, technical\, and legal point of view with a focus on information security.
X-ALT-DESC;FMTTYPE=text/html:<div>In the previous webinars in this series\, we have&nbsp\;learned what Personally Identifiable Information (PII) is and how to manage the ways in which it enters your organization. But what are the compliance obligations once that data has been collected? What are the technical issues we need to care about in managing any sensitive information we control? Topics in this webinar include securing PII and defining the necessary access permissions\, as well as ensuring that individual records can be removed if the data subject requests it. How should data backups and PII stored in older\, legacy systems be handled? What actions are required if a data breach is detected?<br />\n<br />\n<strong>Our speaker:</strong><br />\nAlex Cespedes is an&nbsp\;Independent Data Protection Consultant. Alex is a data protection consultant supporting organizations in Thailand to reach compliance with the Personal Data Protection Act (PDPA) and the Cybersecurity Act\, while leveraging his EU experience with the General Data Protection Regulation (GDPR) and the Directive for Network and Information Security (NIS Directive).&nbsp\;<br />\n<br />\nAlex is also the chair of the International Association of Privacy Professionals (IAPP) KnowledgeNet Chapter in Bangkok. In this context he organizes learning and networking events with representatives from industry and academia. In the past 10 years\, Alex has worked on data risk and compliance projects across Europe\, both in the private and public sector. He has developed a multidisciplinary approach to solving data protection issues from an organizational\, technical\, and legal point of view with a focus on information security.&nbsp\;</div>\n
LOCATION:Webinar
UID:e.3314.1856
SEQUENCE:3
DTSTAMP:20260421T211804Z
URL:https://connect.amchamthailand.com/events/details/digital-economy-committee-pdpa-preparedness-series-technical-considerations-part-1-1856
END:VEVENT

END:VCALENDAR
