BEGIN:VCALENDAR
VERSION:2.0
PRODID:-//ChamberMaster//Event Calendar 2.0//EN
METHOD:PUBLISH
X-PUBLISHED-TTL:P3D
REFRESH-INTERVAL:P3D
CALSCALE:GREGORIAN
BEGIN:VEVENT
DTSTART:20190227T100000Z
DTEND:20190227T113000Z
X-MICROSOFT-CDO-ALLDAYEVENT:FALSE
SUMMARY:Digital Economy Committee: Kick Off Meeting
DESCRIPTION:Digital Economy (DE) Committee members are gathering again to discuss topics that affect us and our businesses\, including but not limited to:\n\n	Status of Digital Economy (and related) Laws (Cybersecurity Act\, Personal Data Protection Act\, etc.)\n	Latest changes to the Smart Visa program\n	e-Government Digital Government Agency)\n	Telecom industry\n	Planning DE Committee activities for 2019\n	Internal AmCham workflow applications \n	External events and activities\n	Other topics \n\nOur DE meetings are informal\, so think of these topics as more of a starting point to find out what people are interested in and to kickstart some thinking about what our committee should focus on during the coming year.\n\n\n\nIf you have something to contribute on any of these (or other) relevant subjects\, or want to know more about any of them\, please join us to share your knowledge and your curiosity!
X-ALT-DESC;FMTTYPE=text/html:Digital Economy (DE) Committee members are gathering again to discuss topics that affect us and our businesses\, including but not limited to:\n<ul>\n	<li>Status of Digital Economy (and related) Laws&nbsp\;(Cybersecurity Act\, Personal Data Protection Act\, etc.)</li>\n	<li>Latest changes to the Smart Visa program</li>\n	<li>e-Government&nbsp\;Digital Government Agency)</li>\n	<li>Telecom industry</li>\n	<li>Planning DE Committee activities for 2019</li>\n	<li>Internal AmCham workflow applications&nbsp\;</li>\n	<li>External events and activities</li>\n	<li>Other topics&nbsp\;</li>\n</ul>\nOur DE meetings are informal\, so think of these topics as more of a starting point to find out what people are interested in and to kickstart some thinking about what our committee should focus on during the coming year.<br />\n<br />\nIf you have something to contribute on any of these (or other) relevant subjects\, or want to know more about any of them\, please join us to share your knowledge and your curiosity!<br />\n&nbsp\;
LOCATION:HP Thailand\, U Chu Liang Building\, 3rd Floor. (see map) Nearest BTS: Silom Nearest MRT: Lumpini
UID:e.3314.273
SEQUENCE:3
DTSTAMP:20260424T000320Z
URL:https://connect.amchamthailand.com/events/details/digital-economy-committee-kick-off-meeting-273
END:VEVENT

END:VCALENDAR
