BEGIN:VCALENDAR
VERSION:2.0
PRODID:-//ChamberMaster//Event Calendar 2.0//EN
METHOD:PUBLISH
X-PUBLISHED-TTL:P3D
REFRESH-INTERVAL:P3D
CALSCALE:GREGORIAN
BEGIN:VEVENT
DTSTART:20190403T093000Z
DTEND:20190403T110000Z
X-MICROSOFT-CDO-ALLDAYEVENT:FALSE
SUMMARY:Digital Economy Committee: April Meeting
DESCRIPTION:Do you have DE topics you want to discuss? Looking for help from your fellow Chamber members on dealing with IT issues? Is there a new product or service you're excited about and want to share? Do you have a great idea for a DE-related speaker or event? \n\n\n\nJoin us to share your ideas. Here's what's on the agenda for our April Digital Economy Committee meeting:\n\n	Drafting the Digital Economy section of AmCham's 2019 Thailand White Paper. This is your opportunity to have direct input into the Chamber's advocacy positions in support of Thailand 4.0. \n	We'll have a short presentation from Ogilvy\, and discuss / plan a Chamber-wide event we hope to organize with them (probably in Q2) on Digital Transformation.\n	Finalizing details for an upcoming field trip to One Bangkok\, the massive\, mixed-use real estate project on Rama 4 Road which will include extensive 'Smart City' infrastructure
X-ALT-DESC;FMTTYPE=text/html:<span style="font-family:arial\,sans-serif\;">Do you have DE topics you want to discuss? Looking for help from your fellow Chamber members on dealing with IT issues? Is there a new product or service you&#39\;re excited about and want to share? Do you have a great idea for a DE-related speaker or event?&nbsp\;<br />\n<br />\nJoin us to share your ideas.&nbsp\;</span><span style="font-family:arial\,sans-serif\;">Here&#39\;s what&#39\;s on the agenda for our April Digital Economy Committee meeting:</span>\n<ul>\n	<li style="margin-left:0in\;"><span style="font-family:arial\,sans-serif\;">Drafting the Digital Economy section of <strong>AmCham&#39\;s 2019 Thailand White Paper</strong>. This is your opportunity to have direct input into the Chamber&#39\;s advocacy positions in support of Thailand 4.0. </span></li>\n	<li style="margin-left:0in\;"><span style="font-family:arial\,sans-serif\;">We&#39\;ll have a short presentation from Ogilvy\, and discuss / plan a Chamber-wide event we hope to organize with them (probably in Q2) on <strong>Digital Transformation</strong>.</span></li>\n	<li style="margin-left:0in\;"><span style="font-family:arial\,sans-serif\;">Finalizing details for an <strong>upcoming field trip to One Bangkok</strong>\, the massive\, mixed-use real estate project on Rama 4 Road which will include extensive &#39\;Smart City&#39\;&nbsp\;infrastructure</span></li>\n</ul>\n
LOCATION:AMCHAM Office\, GPF Witthayu 7th Floor Nearest BTS: Ploenchit Station
UID:e.3314.287
SEQUENCE:3
DTSTAMP:20260423T204319Z
URL:https://connect.amchamthailand.com/events/details/digital-economy-committee-april-meeting-287
END:VEVENT

END:VCALENDAR
