BEGIN:VCALENDAR
VERSION:2.0
PRODID:-//ChamberMaster//Event Calendar 2.0//EN
METHOD:PUBLISH
X-PUBLISHED-TTL:P3D
REFRESH-INTERVAL:P3D
CALSCALE:GREGORIAN
BEGIN:VEVENT
DTSTART:20201110T020000Z
DTEND:20201110T030000Z
X-MICROSOFT-CDO-ALLDAYEVENT:FALSE
SUMMARY:Customs & Excise Council: November 2020 Video Conference
DESCRIPTION:The Customs & Excise Council's November 2020 meeting will be virtual with the following agenda:\n\n\n	Extending measures for COVID-19 \n	Issue on Customs process on bulk cargo\n	Survey of AMCHAM members on issue of Customs law and practice\n	General Customs and Excise updates and news sharing between members\n\n\nRegister for this meeting to discuss these issues which affect many AMCHAM companies and help us to determine workable solutions.
X-ALT-DESC;FMTTYPE=text/html:<p background-color:="" color:="" font-size:="" line-height:="" margin-bottom:="" margin-top:="" open="" style="box-sizing: border-box\; font-family: ">The Customs &amp\; Excise Council&#39\;s November 2020 meeting will be virtual with the following agenda:</p>\n\n<ul 0px="" 1rem="" background-color:="" color:="" font-size:="" list-style-image:="" list-style-position:="" margin:="" open="" outline:="" style="box-sizing: border-box\; font-family: ">\n	<li style="margin-left:0in\;">Extending measures for COVID-19&nbsp\;</li>\n	<li style="margin-left:0in\;">Issue on Customs process on bulk cargo</li>\n	<li style="margin-left:0in\;">Survey of AMCHAM members on issue of Customs law and&nbsp\;practice</li>\n	<li style="margin-left:0in\;">General Customs and Excise updates and news sharing between members</li>\n</ul>\n\n<p background-color:="" color:="" font-size:="" line-height:="" margin-bottom:="" margin-top:="" open="" style="box-sizing: border-box\; font-family: ">Register for this meeting to discuss these issues which affect many AMCHAM companies and help us to determine workable solutions.</p>\n
LOCATION:Online Video Conference
UID:e.3314.1753
SEQUENCE:3
DTSTAMP:20260422T113701Z
URL:https://connect.amchamthailand.com/events/details/customs-excise-council-november-2020-video-conference-1753
END:VEVENT

END:VCALENDAR
