BEGIN:VCALENDAR
VERSION:2.0
PRODID:-//ChamberMaster//Event Calendar 2.0//EN
METHOD:PUBLISH
X-PUBLISHED-TTL:P3D
REFRESH-INTERVAL:P3D
CALSCALE:GREGORIAN
BEGIN:VEVENT
DTSTART:20190313T020000Z
DTEND:20190313T033000Z
X-MICROSOFT-CDO-ALLDAYEVENT:FALSE
SUMMARY:Customs & Excise Council: March 2019 Meeting
DESCRIPTION:The Customs & Excise Council will convene to discuss the following topics:\n\nPART I (9 - 10 am)\n\nLearning: Quarterly Briefing by Customs Industry Experts\n\n\n	Meeting Opening  / Introduction of the Speaker  (5 mins)\n	Briefing by FedEx on the Courier Industry (40 mins)\n	\n		A brief intro/ overview of FedEx and TNT services and how to support SMEs.\n		Key challenges faced by Thai customers on Customs regulations and how the courier industry can assist.\n		Other courier industry insights of Customs processes and regulations including advocacy recommendations that AMCHAM could consider.\n	\n	\n	Q&A (15 mins)\n\nPART II (10 - 11 am)\n\nAdvocacy \n\n\n	Meeting requests with DGs: Status\n\nLearning\n\n\n	Broader membership info sharing: Review of Draft Membership Survey.\n\nOthers\n\n\n	Information/data collection survey on the ASEAN Single Window in Southeast Asia.\n	Next meeting date and agenda.\n\n\nRegister for this meeting to discuss these issues which affect many AMCHAM companies and help us to determine workable solutions.
X-ALT-DESC;FMTTYPE=text/html:<p>The Customs &amp\; Excise Council will convene to discuss the following topics:</p>\n\n<p><u><strong>PART I</strong></u> (9 - 10 am)<br />\n<strong>Learning: Quarterly Briefing by Customs Industry Experts</strong></p>\n\n<ul>\n	<li>Meeting Opening&nbsp\;&nbsp\;/ Introduction of the Speaker &nbsp\;(5 mins)</li>\n	<li>Briefing by FedEx on the Courier Industry (40 mins)\n	<ul>\n		<li>A brief intro/ overview of FedEx and TNT services and how to support&nbsp\;SMEs.</li>\n		<li>Key challenges faced by Thai customers on&nbsp\;Customs&nbsp\;regulations&nbsp\;and how the courier industry can assist.</li>\n		<li>Other courier industry insights of Customs processes and regulations including advocacy recommendations that AMCHAM could consider.</li>\n	</ul>\n	</li>\n	<li>Q&amp\;A (15 mins)</li>\n</ul>\n<u><strong>PART II</strong></u> (10&nbsp\;- 11 am)<br />\n<strong>Advocacy </strong>\n\n<ul>\n	<li>Meeting requests with DGs: Status</li>\n</ul>\n<strong>Learning</strong>\n\n<ul>\n	<li>Broader membership info sharing:&nbsp\;Review of Draft Membership Survey.</li>\n</ul>\n<strong>Others</strong>\n\n<ul>\n	<li>Information/data collection survey on the ASEAN Single Window in Southeast Asia.</li>\n	<li>Next meeting date and agenda.</li>\n</ul>\n\n<p>Register for this meeting to discuss these issues which affect many AMCHAM companies and help us to determine workable solutions.</p>\n
LOCATION:AMCHAM Office\, Citi Boardroom BTS: Ploenchit
UID:e.3314.243
SEQUENCE:3
DTSTAMP:20260423T221202Z
URL:https://connect.amchamthailand.com/events/details/customs-excise-council-march-2019-meeting-243
END:VEVENT

END:VCALENDAR
