BEGIN:VCALENDAR
VERSION:2.0
PRODID:-//ChamberMaster//Event Calendar 2.0//EN
METHOD:PUBLISH
X-PUBLISHED-TTL:P3D
REFRESH-INTERVAL:P3D
CALSCALE:GREGORIAN
BEGIN:VEVENT
DTSTART:20200610T020000Z
DTEND:20200610T030000Z
X-MICROSOFT-CDO-ALLDAYEVENT:FALSE
SUMMARY:Customs & Excise Council: June 2020 Video Conference
DESCRIPTION:Customs & Excise Council's June 2020 meeting will be virtual with the following agenda:\n\n\n\n- Customs and Excise Council draft letter/position paper on proposal of relief measures due to Covid-19.\n\n- Update on trade control on Weapons of Mass Destruction (TCWMD) law\n\n- Customs One Stop Service program\n\n- Other issues:\n\n      - BOI laws.\n\n      - Excise tax measure to support the automotive industry.\n\nRegister for this meeting to discuss these issues which affect many AMCHAM companies and help us to determine workable solutions.
X-ALT-DESC;FMTTYPE=text/html:<p>Customs &amp\; Excise Council&#39\;s June 2020 meeting will be virtual with the following agenda:<br />\n<br />\n- Customs and Excise Council draft letter/position paper on proposal of relief measures due to Covid-19.<br />\n-&nbsp\;Update on trade control on Weapons of Mass Destruction (TCWMD) law<br />\n- Customs One Stop Service program<br />\n- Other issues:<br />\n&nbsp\;&nbsp\; &nbsp\;&nbsp\; - BOI laws.<br />\n&nbsp\; &nbsp\; &nbsp\; - Excise tax measure to support the automotive industry.</p>\n\n<p>Register for this meeting to discuss these issues which affect many AMCHAM companies and help us to determine workable solutions.</p>\n
LOCATION:Online Video Conference
UID:e.3314.1621
SEQUENCE:3
DTSTAMP:20260422T200938Z
URL:https://connect.amchamthailand.com/events/details/customs-excise-council-june-2020-video-conference-1621
END:VEVENT

END:VCALENDAR
