BEGIN:VCALENDAR
VERSION:2.0
PRODID:-//ChamberMaster//Event Calendar 2.0//EN
METHOD:PUBLISH
X-PUBLISHED-TTL:P3D
REFRESH-INTERVAL:P3D
CALSCALE:GREGORIAN
BEGIN:VEVENT
DTSTART:20230124T020000Z
DTEND:20230124T030000Z
X-MICROSOFT-CDO-ALLDAYEVENT:FALSE
SUMMARY:Customs & Excise Council: January 2023 Video Conference
DESCRIPTION:The Customs & Excise Council will convene virtually on January 24. Please see the meeting agenda below.\n\n \n1. Carry Forward Items to 2023:\n\n  1.1 Counterfeit Letter\n\n  1.2 New Developments in Ministry of Commerce's Trade Controls on Weapons of Mass Destruction Act ("TCWMD Act")\n\n\n\n2. Topics for Engagement with the Customs Department\n\n\n\n3. Customs Regulatory Update: \n\n  3.1 Broker must be a Shipping Association member if import/export more than one million baht\n\n\n\n4. Engagement with Office on Public Sector\n\n  4.1 Development Commission (OPDC): \n\n"Cross-Border Clearance Issues"\n\n\n\n5. Excise Regulatory Update: \n\n  5.1 Increase in Sugar Tax starting April 2023\n\n  5.2 Excise collection on zero percent alcohol beer and related beverages\n\n \nAll AMCHAM members are welcome to attend the Customs & Excise Council meetings to stay abreast of the policy priorities that AMCHAM advocates for on behalf of members. Advance registration is necessary.\n\n\n\nTo continue to receive updates on our meetings and activities\, or to request to join the Council\, please contact tong@amchamthailand.com
X-ALT-DESC;FMTTYPE=text/html:The Customs &amp\; Excise Council will convene virtually on January 24. Please see the meeting agenda below.<br />\n&nbsp\;\n<div style="margin-left:0in\;">1.&nbsp\;Carry Forward Items to 2023:<br />\n&nbsp\; 1.1 Counterfeit Letter<br />\n&nbsp\; 1.2 New Developments in Ministry of Commerce&#39\;s Trade Controls on Weapons of Mass Destruction Act (&ldquo\;TCWMD Act&rdquo\;)<br />\n<br />\n2. Topics for Engagement with the Customs Department<br />\n<br />\n3. Customs Regulatory Update:&nbsp\;<br />\n&nbsp\; 3.1 Broker must be a Shipping Association member if import/export more than one million baht<br />\n<br />\n4. Engagement with Office on Public Sector<br />\n&nbsp\; 4.1 Development Commission (OPDC):&nbsp\;<br />\n&quot\;Cross-Border Clearance Issues&quot\;<br />\n<br />\n5. Excise Regulatory Update:&nbsp\;<br />\n&nbsp\; 5.1 Increase in Sugar Tax starting April 2023<br />\n&nbsp\; 5.2 Excise collection on zero percent alcohol beer and related beverages<br />\n&nbsp\;</div>\nAll AMCHAM members are welcome to attend the Customs &amp\; Excise Council meetings to stay abreast of the policy priorities that AMCHAM advocates for on behalf of members. Advance registration is necessary.<br color:="" font-size:="" open="" />\n<br color:="" font-size:="" open="" />\nTo continue to receive updates on our meetings and activities\, or to request to join the Council\, please contact tong@amchamthailand.com
LOCATION:Video conference
UID:e.3314.2419
SEQUENCE:3
DTSTAMP:20260420T123344Z
URL:https://connect.amchamthailand.com/events/details/customs-excise-council-january-2023-video-conference-2419
END:VEVENT

END:VCALENDAR
