BEGIN:VCALENDAR
VERSION:2.0
PRODID:-//ChamberMaster//Event Calendar 2.0//EN
METHOD:PUBLISH
X-PUBLISHED-TTL:P3D
REFRESH-INTERVAL:P3D
CALSCALE:GREGORIAN
BEGIN:VEVENT
DTSTART:20190828T020000Z
DTEND:20190828T033000Z
X-MICROSOFT-CDO-ALLDAYEVENT:FALSE
SUMMARY:Customs & Excise Council: August Meeting
DESCRIPTION:The Customs & Excise Council will convene to discuss the following topics:\n\n \n\nLearning: Quarterly Briefing\n\n	The new Thai Industrial Standards. Preparation for inviting Thai Industrial Standards Institute (TISI) for briefing\n	Preparation for the Weapons of Mass Destruction (WMD) seminar.\n\n\n\n\nAdvocacy:\n\n\n	Follow up on drafting of the policy paper on Excise and Customs facilitation. \n\n\n\n\nRegister for this meeting to discuss these issues which affect many AMCHAM companies and help us to determine workable solutions.
X-ALT-DESC;FMTTYPE=text/html:The Customs &amp\; Excise Council will convene to discuss the following topics:<br />\n&nbsp\;<br />\n<strong>Learning:</strong> Quarterly Briefing\n<ul>\n	<li>The new Thai Industrial Standards. Preparation for inviting Thai Industrial Standards Institute (TISI) for briefing</li>\n	<li>Preparation for the Weapons of Mass Destruction (WMD) seminar.</li>\n</ul>\n\n<p><br />\n<strong>Advocacy:</strong></p>\n\n<ul>\n	<li>Follow up on drafting of the policy paper on Excise and Customs facilitation.&nbsp\;</li>\n</ul>\n\n<p><br />\nRegister for this meeting to discuss these issues which affect many AMCHAM companies and help us to determine workable solutions.</p>\n
LOCATION:AMCHAM Office\, Citi Boardroom BTS: Ploenchit
UID:e.3314.368
SEQUENCE:3
DTSTAMP:20260423T115137Z
URL:https://connect.amchamthailand.com/events/details/customs-excise-council-august-meeting-368
END:VEVENT

END:VCALENDAR
