BEGIN:VCALENDAR
VERSION:2.0
PRODID:-//ChamberMaster//Event Calendar 2.0//EN
METHOD:PUBLISH
X-PUBLISHED-TTL:P3D
REFRESH-INTERVAL:P3D
CALSCALE:GREGORIAN
BEGIN:VEVENT
DTSTART:20190228T050000Z
DTEND:20190228T063000Z
X-MICROSOFT-CDO-ALLDAYEVENT:FALSE
SUMMARY:CSR Committee: CSR Best Practice by Cisco
DESCRIPTION:As the world changes all around us\, acquiring technical skills is what brings opportunity and the promise of education is what offers hope. Who will teach and nurture these world changers of tomorrow\, these global problem solvers? Together with education\, instructor training and employment partners Cisco has made a commitment to developing the workforce of the future. Through the Cisco Networking Academy Program\, more than 50\,000 students in Thailand have been trained since 1999 with more than 50 academies across the country.\n\nAbout Speaker\n\nMiss Suthinee Leelahemaratana is currently Program Manager for Cisco Networking Academy in Thailand for more than 4 years and has been working with educators\, NGO\, and social enterprise across Thailand. She is now working with Cisco National Engagement Strategy Program\, which helps to create the Skilled-Workforce to feed in to industry partnering with the Ministry of Digital Economy and Society. Join us to hear her share the story of Cisco's CSR initiatives in Thailand.
X-ALT-DESC;FMTTYPE=text/html:<p>As the world changes all around us\, acquiring technical skills is what brings opportunity and the promise of education is what offers hope. Who will teach and nurture these world changers of tomorrow\, these global problem solvers? Together with education\, instructor training and employment partners Cisco has made a commitment to developing the workforce of the future. Through the Cisco Networking Academy Program\, more than 50\,000 students in Thailand have been trained since 1999 with more than 50 academies across the country.</p>\n\n<p><u>About Speaker</u></p>\n\n<p>Miss Suthinee&nbsp\;Leelahemaratana is currently Program Manager for Cisco Networking Academy in Thailand for more than 4 years and has been working with educators\, NGO\, and social enterprise across Thailand. She is now working with Cisco National Engagement Strategy Program\, which helps to create the Skilled-Workforce to feed in to industry partnering with the Ministry of Digital Economy and Society. Join us to hear her share the story of Cisco&#39\;s CSR initiatives in Thailand.&nbsp\;</p>\n
LOCATION:AMCHAM Office\, Citi Boardroom Nearest BTS: Ploenchit
UID:e.3314.239
SEQUENCE:3
DTSTAMP:20260423T235652Z
URL:https://connect.amchamthailand.com/events/details/csr-committee-csr-best-practice-by-cisco-239
END:VEVENT

END:VCALENDAR
