BEGIN:VCALENDAR
VERSION:2.0
PRODID:-//ChamberMaster//Event Calendar 2.0//EN
METHOD:PUBLISH
X-PUBLISHED-TTL:P3D
REFRESH-INTERVAL:P3D
CALSCALE:GREGORIAN
BEGIN:VEVENT
DTSTART:20190829T050000Z
DTEND:20190829T063000Z
X-MICROSOFT-CDO-ALLDAYEVENT:FALSE
SUMMARY:CSR Committee: CSR Best Practice by Cargill
DESCRIPTION:Please join us to hear guest speaker Sukiet Kittitammachote\, Corporate Affairs Director\, Cargill Thailand\, who will speak about the Cargill Care Healthy School Lunch program which received recognition in the excellence in CSR Project Under 1 million category in 2018.\n\n \n\nAbout the Company\n\nCargill in Thailand started operations more than 50 years ago. Their corporate responsibility practice has a focus on nutrition\, food safety and education. Cargill Care Healthy School Lunch program is one of their key nutrition programs aimed to provide children with quality meals according to their daily physical needs. At the heart of this program\, it highlights their strong commitment to ensure that every child in the community has a nutritious meal\, especially protein\, which is essential for their learning ability.\n\n \n\nWe invite you to hear the story of this program from Cargill and to encourage more companies to take part in AMCHAM's CSR Excellence Awards every year. \n\n \n\nAbout the speaker \n\nMr. Sukiet Kittitammachote is currently lead corporate affairs officer in Thailand for Cargill. He brings his expertise and background to manage Cargill's reputation and brand by engaging stakeholders that include government agencies\, NGOs\, trade associations\, as well as connecting with farmers that the businesses are working with. He is also leading corporate responsibility and sustainability programs in Thailand to help feed the world in a safe and responsible way. Sukiet also manages corporate communication for the company. \n\n\n\nPrior joining Cargill\, he worked in marketing communications and public relations in food retailing in Thailand for Tesco Lotus and Central Food Retail.
X-ALT-DESC;FMTTYPE=text/html:<p>Please join us to hear guest speaker&nbsp\;Sukiet Kittitammachote\, Corporate Affairs Director\, Cargill Thailand\, who will speak about the&nbsp\;Cargill Care Healthy School Lunch program which received recognition in the excellence in CSR Project Under 1 million category&nbsp\;in 2018.<br />\n&nbsp\;<br />\n<strong>About the Company</strong><br />\nCargill in Thailand started operations more than 50 years ago. Their corporate responsibility practice has a&nbsp\;focus on nutrition\, food safety and education. Cargill Care Healthy School Lunch program is one of their key nutrition programs aimed to provide children with quality meals according to their daily physical needs. At the heart of this program\, it highlights their strong commitment to ensure that every child in the community has a&nbsp\;nutritious meal\, especially protein\, which is essential for their learning ability.<br />\n&nbsp\;<br />\nWe invite you to hear the story of this program from Cargill and to encourage more companies to take part in AMCHAM&#39\;s CSR Excellence Awards every year.&nbsp\;<br />\n&nbsp\;<br />\n<strong>About the speaker&nbsp\;</strong><br />\nMr. Sukiet Kittitammachote is currently lead corporate affairs officer&nbsp\;in Thailand for Cargill. He brings&nbsp\;his expertise and background&nbsp\;to manage Cargill&rsquo\;s reputation and brand by engaging stakeholders that include government agencies\, NGOs\, trade associations\, as well as connecting with farmers that the businesses are working with. He is also leading corporate responsibility and sustainability programs in Thailand to help feed&nbsp\;the world in a safe and&nbsp\;responsible way. Sukiet also manages corporate communication for the company.&nbsp\;<br />\n<br />\nPrior joining Cargill\, he worked&nbsp\;in marketing communications and public relations in food retailing&nbsp\;in Thailand for&nbsp\;Tesco Lotus and Central Food Retail.&nbsp\;</p>\n
LOCATION:AMCHAM Office\, Citi Boardroom Nearest BTS: Ploenchit
UID:e.3314.247
SEQUENCE:3
DTSTAMP:20260423T115223Z
URL:https://connect.amchamthailand.com/events/details/csr-committee-csr-best-practice-by-cargill-247
END:VEVENT

END:VCALENDAR
