BEGIN:VCALENDAR
VERSION:2.0
PRODID:-//ChamberMaster//Event Calendar 2.0//EN
METHOD:PUBLISH
X-PUBLISHED-TTL:P3D
REFRESH-INTERVAL:P3D
CALSCALE:GREGORIAN
BEGIN:VEVENT
DTSTART:20190209T033000Z
DTEND:20190209T080000Z
X-MICROSOFT-CDO-ALLDAYEVENT:FALSE
SUMMARY:Community Event: SPARK Trail Opening Ceremony
DESCRIPTION:Opening of Commemorative Trail - 200 Years of Thai-U.S. Friendship\n\n\n\nThe Sister Parks Arrangement for Resources and Knowledge Sharing (SPARK) is pleased to invite AMCHAM members and their families to the opening ceremony for a commemorative trail honoring 200 years of U.S. - Thai Friendship. This 2.3 kilometer trail near the Sai Sorn Reservoir is the pilot trail in SPARK's 10-year project to develop Khao Yai National Park into a world class park by upgrading park resources and strengthening park managment via knowledge sharing and connecting to international park professional networks.\n\n\n\nSPARK is a joint effort between AMATA Foundation\, the Thai Department of National Parks\, Wildlife and Plants Conservation (DNP) and the International Conservation Caucus Foundation (ICCF). AMATA\, as project coordinator\, has spearheaded this project in an excellent example of public-private partnerships in promoting sustainability and nature conservation.\n\n\n\nPlease join for a family-friendly day of nature and hiking\, and the chance to learn more about this exciting project and different volunteer opportunities going forward.\n\n\n\nProgram\n10.30: Registration at trailhead\n\n11.00: Opening ceremony\n\n11.30: Begin hiking\n\n12.10: Lunch on top of the hill (near Lion Camp\, 1.1 km from trailhead)\n\n13.00: Resume hiking\n\n14.00: Arrive at the end of trail (2.3 km from trailhead)\n\n14.15: Refreshments served at the tourist center\n\n14.30: Cocktail reception with a presentation on the SPARK Project and volunteer opportunities.
X-ALT-DESC;FMTTYPE=text/html:<br />\n<strong>Opening of Commemorative Trail - 200 Years of Thai-U.S. Friendship</strong><br />\n<br />\nThe Sister Parks Arrangement for Resources and Knowledge Sharing (SPARK) is pleased to invite AMCHAM members and their families to the opening ceremony for a commemorative trail honoring 200 years of U.S. - Thai Friendship. This 2.3 kilometer trail near the Sai Sorn Reservoir is the pilot trail in SPARK&#39\;s 10-year project to develop Khao Yai National Park into a world class park by upgrading park resources and strengthening park managment via knowledge sharing and connecting to international park professional networks.<br />\n<br />\nSPARK is a joint effort between AMATA Foundation\, the Thai Department of National Parks\, Wildlife and Plants Conservation (DNP) and the International Conservation Caucus Foundation (ICCF). AMATA\, as project coordinator\, has spearheaded this project in an excellent example of public-private partnerships in promoting sustainability and nature conservation.<br />\n<br />\nPlease join for a family-friendly day of nature and hiking\, and the chance to learn more about this exciting project and different volunteer opportunities going forward.<br />\n<br />\n<strong>Program</strong>\n<div>10.30: Registration at trailhead</div>\n\n<div>11.00: Opening ceremony</div>\n\n<div>11.30: Begin&nbsp\;hiking</div>\n\n<div>12.10: Lunch on top of the hill (near Lion Camp\, 1.1 km from trailhead)</div>\n\n<div>13.00: Resume hiking</div>\n\n<div>14.00: Arrive at the end of trail (2.3 km from trailhead)</div>\n\n<div>14.15: Refreshments served at the tourist center</div>\n\n<div>14.30: Cocktail reception with a presentation on the SPARK Project and volunteer opportunities.</div>\n\n<div>&nbsp\;</div>\n
LOCATION:Trailhead (see map)
UID:e.3314.199
SEQUENCE:3
DTSTAMP:20260423T235652Z
URL:https://connect.amchamthailand.com/events/details/community-event-spark-trail-opening-ceremony-199
END:VEVENT

END:VCALENDAR
