BEGIN:VCALENDAR
VERSION:2.0
PRODID:-//ChamberMaster//Event Calendar 2.0//EN
METHOD:PUBLISH
X-PUBLISHED-TTL:P3D
REFRESH-INTERVAL:P3D
CALSCALE:GREGORIAN
BEGIN:VEVENT
DTSTART:20190212T003000Z
DTEND:20190212T013000Z
X-MICROSOFT-CDO-ALLDAYEVENT:FALSE
SUMMARY:Community Engagement
DESCRIPTION:Join us for the Community Engagement Committee meeting. We will discuss our plans for 2019 including new applications for the scholarship program.   \n\nThere will also be discussion on the 2019 Silent Auction at the Governors Ball and we'll discuss strategy for the other fund-raising activities for our scholarship program.\n\n\n\nThis is a working meeting and we are always seeking new people with new ideas to help us design and implement effective projects.  All are welcome to attend.
X-ALT-DESC;FMTTYPE=text/html:<p style="font-family: verdana\, arial\, sans-serif\; font-size: 12px\; background-color: rgb(255\, 255\, 255)\;">Join us for the Community Engagement Committee meeting. We will discuss our plans for 2019 including new applications for the scholarship program.&nbsp\; &nbsp\;</p>\n\n<p style="font-family: verdana\, arial\, sans-serif\; font-size: 12px\; background-color: rgb(255\, 255\, 255)\;">There will also be discussion on the&nbsp\;2019 Silent Auction at the Governors Ball and we&#39\;ll discuss&nbsp\;strategy for the other fund-raising activities&nbsp\;for our scholarship program.<br />\n<br />\nThis is a working meeting and we&nbsp\;are always seeking&nbsp\;new people with new ideas to help us design and implement effective projects.&nbsp\; All are&nbsp\;welcome to attend.</p>\n
LOCATION:AMCHAM Office\, Citi Boardroom BTS Ploenchit
UID:e.3314.230
SEQUENCE:3
DTSTAMP:20260423T235417Z
URL:https://connect.amchamthailand.com/events/details/community-engagement-230
END:VEVENT

END:VCALENDAR
