BEGIN:VCALENDAR
VERSION:2.0
PRODID:-//ChamberMaster//Event Calendar 2.0//EN
METHOD:PUBLISH
X-PUBLISHED-TTL:P3D
REFRESH-INTERVAL:P3D
CALSCALE:GREGORIAN
BEGIN:VEVENT
DTSTART:20200810T083000Z
DTEND:20200810T090000Z
X-MICROSOFT-CDO-ALLDAYEVENT:FALSE
SUMMARY:Calling from Quarantine: An AMCHAM Conversation
DESCRIPTION:Exactly how are the new immigration and quarantine procedures working out in practice? As work permit holders and their families return to Thailand\, they are navigating new requirements as a result of Covid-19. Two recently returned AMCHAM members have volunteered to share their experiences\, in the hopes that this might help others who are planning to undergo the same process.\n\n\n\nJoin us for an informal video conversation with Jeff Lehrmann\, Managing Director of Chevron and AMCHAM Board Governor and David Lawrence\, Of Counsel at Advanced Adjusting Associates and AMCHAM SBE Committee Chair.  \n\n\n\nIf you have specific questions for our speakers\, you may submit them in advance as part of your online registration.
X-ALT-DESC;FMTTYPE=text/html:<div data-tid="messageBodyContainer">\n<div data-tid="messageBodyContent">\n<div>Exactly how are the new immigration and quarantine procedures working out in practice? As work permit holders and their families return to Thailand\, they are navigating new requirements as a result of Covid-19. Two recently returned AMCHAM members have volunteered to share their experiences\, in the hopes that this might help others who are planning to undergo the same process.<br />\n<br />\nJoin us for an informal video conversation with Jeff Lehrmann\, Managing Director of Chevron and AMCHAM Board Governor and David Lawrence\, Of Counsel at Advanced Adjusting Associates and AMCHAM SBE Committee Chair.&nbsp\;&nbsp\;<br />\n<br />\nIf you have specific questions for our speakers\, you may submit them in advance as part of your online registration.</div>\n</div>\n</div>\n
LOCATION:Online Video Conference
UID:e.3314.1660
SEQUENCE:3
DTSTAMP:20260422T162552Z
URL:https://connect.amchamthailand.com/events/details/calling-from-quarantine-an-amcham-conversation-1660
END:VEVENT

END:VCALENDAR
