BEGIN:VCALENDAR
VERSION:2.0
PRODID:-//ChamberMaster//Event Calendar 2.0//EN
METHOD:PUBLISH
X-PUBLISHED-TTL:P3D
REFRESH-INTERVAL:P3D
CALSCALE:GREGORIAN
BEGIN:VEVENT
DTSTART:20181127T003000Z
DTEND:20181127T023000Z
X-MICROSOFT-CDO-ALLDAYEVENT:FALSE
SUMMARY:Business Economics: Opportunities for Thailand in a U.S.-China Trade War
DESCRIPTION:Starting in January 2019\, the U.S. is set to impose new tariffs as high as 25% on many classes of China-produced goods shipped to the U.S. As a result\, many producers based in the U.S.\, China and other countries are beginning to look at relocating their production from China to Thailand as a way to avoid these tariffs.\n\n\n\nPlease join us to hear our speakers\, Jeffrey Neeley of Husch Blackwell\, and Michael Doyle of Seri\, Manop & Doyle discuss the implications of this shift. Their presentation will address the likelihood that the U.S. will impose tariffs of 25% in January\, and whether those tariffs could continue for a substantial amount of time. They will also summarize the legal requirements for shifting the "country of origin" if shifting their production to Thailand to avoid tariffs on Chinese goods.
X-ALT-DESC;FMTTYPE=text/html:Starting in January 2019\, the U.S. is set to impose new tariffs as high as 25% on many classes of China-produced goods shipped to the U.S. As a result\, many producers based in the U.S.\, China and other countries are beginning to look at relocating their production from China to Thailand as a way to avoid these tariffs.<br />\n<br />\nPlease join us to hear our speakers\, <a href="https://www.huschblackwell.com/professionals/jeffrey-neeley"><strong>Jeffrey Neeley</strong></a>&nbsp\;of Husch Blackwell\, and&nbsp\;<a href="http://www.serimanop.com/people-details.php?people_id=4"><strong>Michael Doyle</strong></a>&nbsp\;of Seri\, Manop &amp\; Doyle discuss the implications of this shift. Their presentation will&nbsp\;address the likelihood that the U.S. will impose tariffs of 25% in January\, and whether those tariffs&nbsp\;could continue for a substantial amount of time. They will also summarize the legal requirements for&nbsp\;shifting the &ldquo\;country of origin&rdquo\; if&nbsp\;shifting their production to Thailand to avoid&nbsp\;tariffs on Chinese goods.
LOCATION:AMCHAM Office\, Citi Boardroom (GPF Witthayu\, 7th Floor) Nearest BTS: Ploenchit
UID:e.3314.61
SEQUENCE:3
DTSTAMP:20260424T044331Z
URL:https://connect.amchamthailand.com/events/details/business-economics-opportunities-for-thailand-in-a-u-s-china-trade-war-61
END:VEVENT

END:VCALENDAR
