BEGIN:VCALENDAR
VERSION:2.0
PRODID:-//ChamberMaster//Event Calendar 2.0//EN
METHOD:PUBLISH
X-PUBLISHED-TTL:P3D
REFRESH-INTERVAL:P3D
CALSCALE:GREGORIAN
BEGIN:VEVENT
DTSTART:20190919T113000Z
DTEND:20190919T140000Z
X-MICROSOFT-CDO-ALLDAYEVENT:FALSE
SUMMARY:BCCT Multi-Chambers T3 Business Networking
DESCRIPTION:Click here to register\n\n\n\nSpecial thanks to our amazing sponsors  \n\nVenue/food sponsor: The Conrad Bangkok\n\nCash sponsor: Allied Pickfords\, Bumrungrad Hospital\n\n \n\n\nAs a celebration of the start of the 2019 Rugby World Cup hosted in Tokyo (the first game is on 20th) BCCT together with American\, Australian\, French\, Italian\, Irish and South African Chambers of Commerce cordially invites you to \n\n \n\nBCCT MULTI-CHAMBERS T3 BUSINESS NETWORKING\n\n\n\nCome and join us to meet great business people while enjoying drinks and the special food selection The Conrad Bangkok. See menu below. \n\n \n\nCold Canap s: \n\nShrimp Cones with Marie-Rose sauce\n\nHerb profiteroles filled with glazed figs and Iberico\n\nHerb profiteroles filled with glazed figs and feta cheese (v)\n\nTuna poke\, soy\, ginger\, chive Taco\n\nSmoked salmon & herb crepe roulade\n\nRoasted apple\, truffle brie and wild rocket pumpernickel (V)\n\n \n\nHot Canap s: \n\nDuck\, Shitake mushroom and kalian spring rolls sweet chilli sauce\n\nShitake mushroom and kalian spring rolls sweet chilli sauce (V)\n\nChicken kushiyaki\, goji berry chutney\n\nMarinated zucchini skewers\, goji berry chutney (V)\n\nMini wagyu sliders\, onion confit and cheddar cheese\n\nPhadThai Goongegg rolls/PhadThai egg rolls (V)\n\nSeared scallops with candied ginger and crisp pancetta\n\n \n\nFood Stalls: \n\nPeking duck - a speciality of Liu Restaurant\n\nSushi and Sashimi - a speciality of KiSara Japanese Restaurant\n\n"Noodles in a Box" - fried noodles\, fresh seasonal vegetables\, greens and sprouts\, "Broccoli (v) or Chicken"\n\nHoney glazed ham carvery - Dijon mustard\, whole grain mustard and dollar rolls\n\nCheese Quesadilla - toasted crisp tortilla filled with cheese topped with spicy tomato salsa and guacamole\n\n \n\nSweet Bites: \n\nPetite fruit tartlets vanilla cream\n\nMiniature  clairs  gold leaf and feathered fondant\n\nEton Mess\n\nBread and butter Pudding\n\nBanofeePie\n\n\n\nDrinks: soft\, beer and wine
X-ALT-DESC;FMTTYPE=text/html:Click <a href="http://members.bccthai.com/BCCT/asp/eventbook.asp?member=N&amp\;EventID=3322">here</a> to register<br />\n<br />\nSpecial thanks to our amazing sponsors&nbsp\;&nbsp\;<br />\nVenue/food sponsor:&nbsp\;<a href="http://www.conradbangkok.com/" target="_blank">The Conrad Bangkok</a><br />\nCash sponsor:&nbsp\;<a href="http://www.alliedpickfordsthailand.com/" target="_blank">Allied Pickfords</a>\,&nbsp\;<a href="http://www.bumrungrad.com/" target="_blank">Bumrungrad Hospital</a><br />\n&nbsp\;\n<div>\n<hr size="2" /></div>\nAs a celebration of the start of the 2019 Rugby World Cup hosted in Tokyo (the first game is on 20th) BCCT together with&nbsp\;American\, Australian\, French\, Italian\, Irish and South African Chambers of Commerce&nbsp\;cordially invites you to&nbsp\;<br />\n&nbsp\;<br />\nBCCT MULTI-CHAMBERS T3 BUSINESS NETWORKING<br />\n<br />\nCome and join us to meet great business people while enjoying drinks and the special food selection The Conrad Bangkok. See menu below.&nbsp\;<br />\n&nbsp\;<br />\nCold Canap&eacute\;s:&nbsp\;<br />\nShrimp Cones with Marie-Rose sauce<br />\nHerb profiteroles filled with glazed figs and Iberico<br />\nHerb profiteroles filled with glazed figs and feta cheese (v)<br />\nTuna poke\, soy\, ginger\, chive Taco<br />\nSmoked salmon &amp\; herb crepe roulade<br />\nRoasted apple\, truffle brie and wild rocket pumpernickel (V)<br />\n&nbsp\;<br />\nHot Canap&eacute\;s:&nbsp\;<br />\nDuck\, Shitake mushroom and kalian spring rolls sweet chilli sauce<br />\nShitake mushroom and kalian spring rolls sweet chilli sauce (V)<br />\nChicken kushiyaki\, goji berry chutney<br />\nMarinated zucchini skewers\, goji berry chutney (V)<br />\nMini wagyu sliders\, onion confit and cheddar cheese<br />\nPhadThai Goongegg rolls/PhadThai egg rolls (V)<br />\nSeared scallops with candied ginger and crisp pancetta<br />\n&nbsp\;<br />\nFood Stalls:&nbsp\;<br />\nPeking duck - a speciality of Liu Restaurant<br />\nSushi and Sashimi - a speciality of KiSara Japanese Restaurant<br />\n&ldquo\;Noodles in a Box&rdquo\;&nbsp\;-&nbsp\;fried noodles\, fresh seasonal vegetables\, greens and sprouts\,&nbsp\;&ldquo\;Broccoli (v) or Chicken&rdquo\;<br />\nHoney glazed ham carvery - Dijon mustard\, whole grain mustard and dollar rolls<br />\nCheese Quesadilla&nbsp\;-&nbsp\;toasted crisp tortilla filled with cheese topped with spicy tomato salsa and guacamole<br />\n&nbsp\;<br />\nSweet Bites:&nbsp\;<br />\nPetite fruit tartlets vanilla cream<br />\nMiniature &eacute\;clairs &ndash\;gold leaf and feathered fondant<br />\nEton Mess<br />\nBread and butter Pudding<br />\nBanofeePie<br />\n<br />\nDrinks: soft\, beer and wine
LOCATION:The Conrad Bangkok on Wireless Road (BTS: Ploenchit exit 5)
UID:e.3314.396
SEQUENCE:3
DTSTAMP:20260421T231017Z
URL:https://connect.amchamthailand.com/events/details/bcct-multi-chambers-t3-business-networking-396
END:VEVENT

END:VCALENDAR
