BEGIN:VCALENDAR
VERSION:2.0
PRODID:-//ChamberMaster//Event Calendar 2.0//EN
METHOD:PUBLISH
X-PUBLISHED-TTL:P3D
REFRESH-INTERVAL:P3D
CALSCALE:GREGORIAN
BEGIN:VEVENT
DTSTART:20190830T100000Z
DTEND:20190830T140000Z
X-MICROSOFT-CDO-ALLDAYEVENT:FALSE
SUMMARY:BCCT Multi-Chamber Phuket Briefing and Networking
DESCRIPTION:REGISTER NOW\n\nBriefing: 5-6pm. Free admission. \n\n\n\nWant to know more about sales in today's hospitality world? \n\n\n\nJoin us to hear from Tareq Bagaeen CEO aQedina\, a hotelier with over 2 decades of extensive experiences in international sales as he shares insights on how he trains ambitious and effective salespeople in today's markets for today's consumers. From demonstrating how to be a persuasive negotiator with outstanding technical and interpersonal skills through to constant research\, learning\, dedication\, teamwork and energy\, he will explain how it all works! \n\n\n\nFollowed by social networking from 6:30 pm - 9 pm to build business connections and grow your network.\n\nAccommodation:\n\nBanyan Tree Phuket is offering a very special room rate Banyan Pool Villas at 7\,250 baht net and Signature Pool Villa at 8\,000 baht per night during August 30-31. RSVP please call 076-372-400 or Reservations-Phuket@banyantree.com Ref code: BCCT Multi-Chamber Phuket\n\n\n\nMenu:\n\nCold Canapes\n\nOver Roasted Tomato Bruschetta (V)\, Caramelized Onion and Cheese Tartlet (V)Hummus and Crudit s Shots (V)\, Cajun Shrimp with Guacamole and Corn Chips\n\n\n\nHot Canapes\n\nRicotta Gnocchi\, Parmesan and Tomato Sauce (V)\, Balsamic Roasted Mushroom\, Kale Mashed Potatoes (V)\, Braised Lamb on Creamy Polenta and Mint Gremolata\, Two-tone Lobster Ravioli\, Garden Peas Puree\n\n\n\nLive Station\n\nJapanese Vegetables Tempura (V)\, Spicy Tuna Sushi Rolls\, Spicy Salmon Sushi Rolls\, California Sushi Rolls\n\n\n\nLive Station\n\nBBQ\, Mini Cheese Burger\, Mini Veggie Hot Dogs (V)\, Chicken Teriyaki Skewers\n\n\n\nLive Station\n\nPhuket Mee Sapam   Stir Fried Egg Noodles\, Seafood\, Egg\n\n\n\nSweets\n\nApple Crumble\, Old Fashioned Rolled Oats\, Dark Chocolate Pudding Shots\, Lemon Meringue Pie Bites\, Strawberry Cheesecake Tartlets\, Mango and Passion Fruit Mousse\, Tropical Fruit and Cheese Skewers\, Homemade Ice Cream and Condiments\n\n\n\nDrinks: soft\, beer and wine
X-ALT-DESC;FMTTYPE=text/html:<p><a href="https://members.bccthai.com/BCCT/asp/eventbook.asp?member=N&amp\;EventID=3435"><strong><span style="color:#000080\;">REGISTER NOW</span></strong></a><br />\n<strong><span style="font-size:10.0pt\;font-family:&#10\;">Briefing: </span></strong><span new="" style="font-size:10.0pt\;&#10\;font-family:" times="">5-6pm. Free admission.&nbsp\;</span><br />\n<br />\nWant to know more about sales in today&#39\;s hospitality world?&nbsp\;<br />\n<br />\nJoin us to hear from Tareq Bagaeen CEO <a href="http://www.aqedina.com/">aQedina</a>\, a hotelier with over 2 decades of extensive experiences in international sales as he shares insights on how he trains ambitious and effective salespeople in today&#39\;s markets for today&#39\;s consumers. From demonstrating how to be a persuasive negotiator with outstanding technical and interpersonal skills through to constant research\, learning\, dedication\, teamwork and energy\, he will explain how it all works!&nbsp\;<br />\n<br />\nFollowed by social networking from 6:30 pm - 9 pm to build business connections and grow your network.</p>\n\n<p><strong>Accommodation:</strong><br />\nBanyan Tree Phuket is offering a very special room rate Banyan Pool Villas at 7\,250 baht net and Signature Pool Villa at 8\,000 baht per night during August 30-31. RSVP please call 076-372-400 or <a>Reservations-Phuket@banyantree.com </a>Ref code: BCCT Multi-Chamber&nbsp\;Phuket<br />\n<br />\n<strong>Menu:</strong></p>\n\n<p><strong>Cold Canapes</strong><br />\nOver Roasted Tomato Bruschetta (V)\, Caramelized Onion and Cheese Tartlet (V)Hummus and Crudit&eacute\;s Shots (V)\, Cajun Shrimp with Guacamole and Corn Chips<br />\n<br />\n<strong>Hot Canapes</strong><br />\nRicotta Gnocchi\, Parmesan and Tomato Sauce (V)\, Balsamic Roasted Mushroom\, Kale Mashed Potatoes (V)\, Braised Lamb on Creamy Polenta and Mint Gremolata\, Two-tone Lobster Ravioli\, Garden Peas Puree<br />\n<br />\n<strong>Live Station</strong><br />\nJapanese Vegetables Tempura (V)\, Spicy Tuna Sushi Rolls\, Spicy Salmon Sushi Rolls\, California Sushi Rolls<br />\n<br />\n<strong>Live Station</strong><br />\nBBQ\, Mini Cheese Burger\, Mini Veggie Hot Dogs (V)\, Chicken Teriyaki Skewers<br />\n<br />\n<strong>Live Station</strong><br />\nPhuket Mee Sapam &ndash\; Stir Fried Egg Noodles\, Seafood\, Egg<br />\n<br />\n<strong>Sweets</strong><br />\nApple Crumble\, Old Fashioned Rolled Oats\, Dark Chocolate Pudding Shots\, Lemon Meringue Pie Bites\, Strawberry Cheesecake Tartlets\, Mango and Passion Fruit Mousse\, Tropical Fruit and Cheese Skewers\, Homemade Ice Cream and Condiments<br />\n<br />\n<strong>Drinks:</strong> soft\, beer and wine&nbsp\;</p>\n
LOCATION:Location: Banyan Tree Phuket
UID:e.3314.373
SEQUENCE:3
DTSTAMP:20260423T115136Z
URL:https://connect.amchamthailand.com/events/details/bcct-multi-chamber-phuket-briefing-and-networking-373
END:VEVENT

END:VCALENDAR
