BEGIN:VCALENDAR
VERSION:2.0
PRODID:-//ChamberMaster//Event Calendar 2.0//EN
METHOD:PUBLISH
X-PUBLISHED-TTL:P3D
REFRESH-INTERVAL:P3D
CALSCALE:GREGORIAN
BEGIN:VEVENT
DTSTART:20220304T110000Z
DTEND:20220304T140000Z
X-MICROSOFT-CDO-ALLDAYEVENT:FALSE
SUMMARY:BCCT Multi-Chamber Networking in Hua Hin
DESCRIPTION:Click here to register\n\n\n\nBCCT\, in cooperation with AMCHAM\, AustCham\, BeLuThai\, CanCham\, FTCC\, GTCC\, ITCC\, NTCC & STCC\, cordially invites you to BCCT Multi-Chamber Networking in Hua Hin.\n\n\n\n\n\nDate: Friday 4th March 2022\n\n\n\nTime: 6.00 - 9.00 pm (last drink at 8.30 pm)\n\n\n\nVenue: Amari Hua Hin\n\n\n\nCost: THB 700 for BCCT/participating chambers and THB 1\,200 for non-members. Price includes food (menu below)\, vodka\, free flow of soft\, beer and wine.  \n\n\n\nPayment and Cancellation Policy:\n\n- Advance payment is required to confirm your registration\n\n- Free cancellation within 2 days before the event and payment will be refunded or transferred to next event's credit.\n\n- Cancellation received less than 2 days and no-show are not able to receive refund or credit\n\n\n\n*Covid-19 requirement: Proof of negative ATK test taken within 48 hours of arriving at the event*\n\n\n\nMenu: \n\nCold: Poached prawns with mango salsa\, vanilla oil/ Salmon rillettes\, ciabatta crouton\n\nHot: Deep fried marinated pork rib with black pepercorn sauce/ Spinach and cheese quiche\n\nLive: Seafood curry roti with mozzarella cheese\n\nSweets: Hua Hin coconut mousse cake/ Espresso cr me brulee/ Seasonal fresh fruit\n\n\n\nAccommodation: Amari Hua Hin is offering special room rates with breakfast on Friday 4 March at THB2\,500 net and Saturday 5 March at THB 3\,500 for single or double. RSVP: reservations.huahin@amari.com or 032 616 600 \n\n\n\n*Pre-registration and pre-payment are required to confirm your booking. Payment options are available here. No payment on the door. No walk-ins please. Thank you for your co-operation* \n\n\n\nFor other inquires please email banthita@bccthai.com
X-ALT-DESC;FMTTYPE=text/html:<p><span style="color:black\;"><span style="font-family:verdana\,sans-serif\;"><span style="font-size:10.0pt\;"><a href="https://members.bccthai.com/bcct/asp/eventbook.asp?member=N&amp\;EventID=3885"><span style="font-size:14px\;"><strong>Click here to register</strong></span></a><br />\n<br />\nBCCT\, in cooperation with AMCHAM\, AustCham\, BeLuThai\, CanCham\, FTCC\, GTCC\, ITCC\, NTCC &amp\; STCC\,&nbsp\;cordially invites you to BCCT Multi-Chamber Networking in Hua Hin.</span></span></span><br />\n<br />\n<br />\n<strong><span style="color:black\;"><span style="font-family:verdana\,sans-serif\;"><span style="font-size:10.0pt\;">Date</span></span></span></strong><span style="color:black\;"><span style="font-family:verdana\,sans-serif\;"><span style="font-size:10.0pt\;">: Friday 4th March 2022</span></span></span><br />\n<br />\n<strong><span style="color:black\;"><span style="font-family:verdana\,sans-serif\;"><span style="font-size:10.0pt\;">Time</span></span></span></strong><span style="color:black\;"><span style="font-family:verdana\,sans-serif\;"><span style="font-size:10.0pt\;">: 6.00 - 9.00 pm (last drink at 8.30 pm)</span></span></span><br />\n<br />\n<strong><span style="color:black\;"><span style="font-family:verdana\,sans-serif\;"><span style="font-size:10.0pt\;">Venue</span></span></span></strong><span style="color:black\;"><span style="font-family:verdana\,sans-serif\;"><span style="font-size:10.0pt\;">: Amari Hua Hin</span></span></span><br />\n<br />\n<strong><span style="color:black\;"><span style="font-family:verdana\,sans-serif\;"><span style="font-size:10.0pt\;">Cost</span></span></span></strong><span style="color:black\;"><span style="font-family:verdana\,sans-serif\;"><span style="font-size:10.0pt\;">:&nbsp\;</span></span></span><span style="color:#333333\;"><span style="font-family:verdana\,sans-serif\;"><span style="font-size:10.0pt\;">THB 700 for BCCT/participating chambers and THB 1\,200 for non-members. Price includes food (menu below)\, vodka\, free flow of soft\, beer and wine. &nbsp\;</span></span></span><br />\n<br />\n<strong><span style="color:black\;"><span style="font-family:verdana\,sans-serif\;"><span style="font-size:10.0pt\;">Payment and Cancellation Policy:</span></span></span></strong><br />\n<span style="color:black\;"><span style="font-family:verdana\,sans-serif\;"><span style="font-size:10.0pt\;">- Advance payment is required to confirm your registration</span></span></span><br />\n<span style="color:black\;"><span style="font-family:verdana\,sans-serif\;"><span style="font-size:10.0pt\;">- Free cancellation within 2 days before the event and payment will be refunded or transferred to next event&rsquo\;s credit.</span></span></span><br />\n<span style="color:black\;"><span style="font-family:verdana\,sans-serif\;"><span style="font-size:10.0pt\;">- Cancellation received less than 2 days and no-show are not able to receive refund or credit</span></span></span><br />\n<br />\n<strong><span style="color:#3333FF\;"><span style="font-family:verdana\,sans-serif\;"><span style="font-size:10.0pt\;">*Covid-19 requirement</span></span></span></strong><span style="color:#3333FF\;"><span style="font-family:verdana\,sans-serif\;"><span style="font-size:10.0pt\;">: Proof of negative ATK test taken within 48 hours of arriving at the event<strong>*</strong></span></span></span><br />\n<br />\n<strong><span style="color:black\;"><span style="font-family:verdana\,sans-serif\;"><span style="font-size:10.0pt\;">Menu:&nbsp\;</span></span></span></strong><br />\n<em><span style="color:black\;"><span style="font-family:verdana\,sans-serif\;"><span style="font-size:10.0pt\;">Cold</span></span></span></em><span style="color:black\;"><span style="font-family:verdana\,sans-serif\;"><span style="font-size:10.0pt\;">: Poached prawns with mango salsa\, vanilla oil/ Salmon rillettes\, ciabatta crouton<br />\n<em>Hot</em>: Deep fried marinated pork rib with black pepercorn sauce/ Spinach and cheese quiche<br />\n<em>Live</em>: Seafood curry roti with mozzarella cheese<br />\n<em>Sweets</em>: Hua Hin coconut mousse cake/ Espresso cr&egrave\;me brulee/ Seasonal fresh fruit</span></span></span><br />\n<br />\n<strong><span style="color:black\;"><span style="font-family:verdana\,sans-serif\;"><span style="font-size:10.0pt\;">Accommodation</span></span></span></strong><span style="color:black\;"><span style="font-family:verdana\,sans-serif\;"><span style="font-size:10.0pt\;">: Amari Hua Hin is offering special room rates with breakfast on Friday 4 March at THB2\,500 net and Saturday 5 March at THB 3\,500 for single or double. RSVP:&nbsp\;</span></span></span><span style="color:blue\;"><span style="font-family:verdana\,sans-serif\;"><span style="font-size:10.0pt\;"><a href="mailto:reservations.huahin@amari.com"><span style="color:blue\;">reservations.huahin@amari.com</span></a></span></span></span><span style="color:black\;"><span style="font-family:verdana\,sans-serif\;"><span style="font-size:10.0pt\;">&nbsp\;or 032 616 600&nbsp\;</span></span></span><br />\n<br />\n<strong><span style="color:#3333FF\;"><span style="font-family:verdana\,sans-serif\;"><span style="font-size:10.0pt\;">*</span></span></span></strong><span style="color:#3333FF\;"><span style="font-family:verdana\,sans-serif\;"><span style="font-size:10.0pt\;">Pre-registration and pre-payment are required to confirm your booking. Payment options are available&nbsp\;</span></span></span><span style="color:red\;"><span style="font-family:verdana\,sans-serif\;"><span style="font-size:10.0pt\;"><a href="https://apc01.safelinks.protection.outlook.com/?url=https%3A%2F%2Fmembers.bccthai.com%2Fasp%2Fview_doc.asp%3FDocCID%3D4144&amp\;data=04%7C01%7Cnoel.ashpole%40bdo.th%7C9c41cbaf73c84aa23c1e08d9a2c6eada%7C85042457411e41f09dd1a87a8f545c9c%7C0%7C0%7C637719797541764118%7CUnknown%7CTWFpbGZsb3d8eyJWIjoiMC4wLjAwMDAiLCJQIjoiV2luMzIiLCJBTiI6Ik1haWwiLCJXVCI6Mn0%3D%7C1000&amp\;sdata=dFAmNiX8e0O6dUCcOBP5Sb8HUpaHUPSOxFbysUx1Vrg%3D&amp\;reserved=0"><span style="color:red\;">here</span></a>.</span></span></span><span style="color:#3333FF\;"><span style="font-family:verdana\,sans-serif\;"><span style="font-size:10.0pt\;"> No payment on the door. No walk-ins please. Thank you for your co-operation<strong>*</strong>&nbsp\;</span></span></span><br />\n<br />\n<span style="color:black\;"><span style="font-family:verdana\,sans-serif\;"><span style="font-size:10.0pt\;">For other inquires please&nbsp\;e</span></span></span><span style="color:black\;"><span style="font-family:verdana\,sans-serif\;"><span style="font-size:10.0pt\;">mail&nbsp\;</span></span></span><u><span style="color:blue\;"><span style="font-family:verdana\,sans-serif\;"><span style="font-size:10.0pt\;"><a href="mailto:banthita@bccthai.com"><span style="color:blue\;">banthita@bccthai.com</span></a></span></span></span></u></p>\n
LOCATION:Venue: Amari Hua Hin
UID:e.3314.2153
SEQUENCE:3
DTSTAMP:20260421T051318Z
URL:https://connect.amchamthailand.com/events/details/bcct-multi-chamber-networking-in-hua-hin-2153
END:VEVENT

END:VCALENDAR
