BEGIN:VCALENDAR
VERSION:2.0
PRODID:-//ChamberMaster//Event Calendar 2.0//EN
METHOD:PUBLISH
X-PUBLISHED-TTL:P3D
REFRESH-INTERVAL:P3D
CALSCALE:GREGORIAN
BEGIN:VEVENT
DTSTART:20221118T100000Z
DTEND:20221118T110000Z
X-MICROSOFT-CDO-ALLDAYEVENT:FALSE
SUMMARY:AustCham Thailand Business Briefing on the Future of Recreational and Medical Cannabis in the Tourism Sector
DESCRIPTION:Please be advised that this function is a partner event with an external organizer. The registration link will send you away from the AMCHAM website to the website of the organizer.  Please be advised that the organizer may not have the same data protection\, event cancellation policies or Covid-19 safety protocol as AMCHAM Thailand.\n\n\n\n\n\nAMCHAM Thailand\, in collaboration with AustCham Thailand\,Australian Alumni\, British Chamber of Commerce Thailand (BCCT)\, Belgian-Luxembourg/Thai Chamber of Commerce\, CanCham Thailand\, Franco-Thai Chamber of Commerce (FTCC)\, German-Thai Chamber of Commerce (GTCC)\, Netherlands-Thai Chamber of Commerce (NTCC)\, Phuket Chamber of Commerce and Thai-Swedish Chamber of Commerce\, invite you to join us for Business Briefing on "The future of Recreational and Medical Cannabis in the Tourism Sector"\n\n\n\nREGISTER NOW\n\n\n\nThe future of Recreational and Medical Cannabis in the Tourism Sector\n\nWill cannabis be a high or just a bad trip for Thailand's tourism sector? This talk will highlight topics to gain practical insight about operating a medical cannabis business focused on tourism in Thailand.\n\nTopics include: \n\n	Marketing and pitch deck considerations for start-ups.\n	Changes to the Cannabis and Hemp Act and how they will affect businesses in the sector.\n	The future of medical cannabis in Asia.\n\nSpeakers: \n\n\n	Dr. Paul Crosio\, a Partner at Silk Legal who was recently recognised as one of the Top 200 Global Cannabis Lawyers of 2022.\n	Diego Sala\, Managing Director of Siam Trade Development specialises in regulated activities surrounding cannabis products\, dietary supplements\, and medical devices.\n\n\n\nAccommodation is being offered to participants at a special rate as below:\n\n\n	Promo Code: SURF\n	Bookings through our Reservation departments at e-mail: rsvn.laguna@saiiresorts.com or call +66 (0)76 360-600\n	Please use promo code: SURF\n\nRoom Type:\n\nLagoon View with breakfast                                 Baht 3\,500 net per room per night\n\nOcean View with breakfast                                  Baht 4\,000 net per room per night\n\nOcean View Terrace with breakfast                     Baht 4\,500 net per room per night\n\nClub Lagoon View with The Club privileges        Baht 4\,500 net per room per night\n\nClub Ocean View with The Club privileges         Baht 5\,500 net per room per night
X-ALT-DESC;FMTTYPE=text/html:Please be advised that this function is a partner event with an external organizer. The registration link will send you away from the AMCHAM website to the website of the organizer.&#8203\; Please be advised that the organizer may not have the same data protection\, event cancellation policies or Covid-19 safety protocol as AMCHAM Thailand.<br />\n<br />\n<br />\nAMCHAM Thailand\, in collaboration with AustCham Thailand\,Australian Alumni\, British Chamber of Commerce Thailand (BCCT)\, Belgian-Luxembourg/Thai Chamber of Commerce\, CanCham Thailand\, Franco-Thai Chamber of Commerce (FTCC)\, German-Thai Chamber of Commerce (GTCC)\, Netherlands-Thai Chamber of Commerce (NTCC)\, Phuket Chamber of Commerce and Thai-Swedish Chamber of Commerce\, invite you to join us for Business Briefing on &quot\;The future of Recreational and Medical Cannabis in the Tourism Sector&quot\;<br />\n<br />\n<span style="font-size:16px\;"><strong><a href="https://www.austchamthailand.com/event/18-nov-austcham-business-briefing-on-the-future-of-recreational-and-medical-cannabis-in-the-tourism-sector/">REGISTER NOW</a></strong></span><br />\n<br />\nThe future of Recreational and Medical Cannabis in the Tourism Sector<br />\nWill cannabis be a high or just a bad trip for Thailand&#39\;s tourism sector? This talk will highlight topics to gain practical insight about operating a medical cannabis business focused on tourism in Thailand.<br />\nTopics include:&nbsp\;\n<ul>\n	<li>Marketing and pitch deck considerations for start-ups.</li>\n	<li>Changes to the Cannabis and Hemp Act and how they will affect businesses in the sector.</li>\n	<li>The future of medical cannabis in Asia.</li>\n</ul>\nSpeakers:&nbsp\;\n\n<ul>\n	<li>Dr. Paul Crosio\, a Partner at Silk Legal who was recently recognised as one of the Top 200 Global Cannabis Lawyers of 2022.</li>\n	<li>Diego Sala\, Managing Director of Siam Trade Development specialises in regulated activities surrounding cannabis products\, dietary supplements\, and medical devices.</li>\n</ul>\n\n<div>\n<p>Accommodation is being offered to participants at a special rate as below:</p>\n\n<ul>\n	<li>Promo Code: SURF</li>\n	<li>Bookings through our Reservation departments at e-mail:&nbsp\;<a href="mailto:rsvn.laguna@saiiresorts.com" target="_blank">rsvn.laguna@saiiresorts.com</a>&nbsp\;or call +66 (0)76 360-600</li>\n	<li>Please use promo code:&nbsp\;SURF</li>\n</ul>\nRoom Type:<br />\nLagoon View with breakfast&nbsp\; &nbsp\; &nbsp\; &nbsp\; &nbsp\; &nbsp\; &nbsp\; &nbsp\; &nbsp\; &nbsp\; &nbsp\; &nbsp\; &nbsp\; &nbsp\; &nbsp\;&nbsp\;&nbsp\;&nbsp\;&nbsp\;Baht 3\,500 net per room per night<br />\nOcean View with breakfast&nbsp\; &nbsp\; &nbsp\; &nbsp\; &nbsp\; &nbsp\; &nbsp\; &nbsp\; &nbsp\; &nbsp\; &nbsp\; &nbsp\; &nbsp\; &nbsp\; &nbsp\; &nbsp\;&nbsp\;&nbsp\;&nbsp\;Baht 4\,000 net per room per night<br />\nOcean View Terrace with breakfast&nbsp\; &nbsp\; &nbsp\; &nbsp\; &nbsp\; &nbsp\; &nbsp\; &nbsp\; &nbsp\; &nbsp\;&nbsp\;&nbsp\;Baht 4\,500 net per room per night<br />\nClub Lagoon View with The Club privileges&nbsp\; &nbsp\; &nbsp\;&nbsp\;&nbsp\;&nbsp\;Baht 4\,500 net per room per night<br />\nClub Ocean View with The Club privileges&nbsp\; &nbsp\; &nbsp\; &nbsp\;&nbsp\;&nbsp\;Baht 5\,500 net per room per night<br />\n<br />\n&nbsp\;</div>\n\n<div><br />\n<br />\n&nbsp\;</div>\n<br />\n<br />\n<br />\n&nbsp\;
LOCATION:SAii Laguna Phuket
UID:e.3314.2331
SEQUENCE:3
DTSTAMP:20260420T162753Z
URL:https://connect.amchamthailand.com/events/details/austcham-thailand-business-briefing-on-the-future-of-recreational-and-medical-cannabis-in-the-tourism-sector-2331
END:VEVENT

END:VCALENDAR
