BEGIN:VCALENDAR
VERSION:2.0
PRODID:-//ChamberMaster//Event Calendar 2.0//EN
METHOD:PUBLISH
X-PUBLISHED-TTL:P3D
REFRESH-INTERVAL:P3D
CALSCALE:GREGORIAN
BEGIN:VEVENT
DTSTART:20190320T013000Z
DTEND:20190320T050000Z
X-MICROSOFT-CDO-ALLDAYEVENT:FALSE
SUMMARY:Arbitration – Lessons to be Learned from the Singapore Experience
DESCRIPTION:AMCHAM Thailand and DFDL Thailand are pleased to invite you to join their session on Arbitration in Thailand and beyond.\n\nThe session will begin with a presentation on "Arbitration - Lessons to be Learned from the Singapore Experience"\, followed by a panel discussion focusing on "Thailand Comparison ? What should Thailand Consider to Improve its Arbitration Environment?"\n\n\n\nThe popularity of Singapore both as a seat of arbitration and a venue for proceedings has grown at an amazing rate over the past decade\; why is this? What should Thailand do if it wishes to have the same popularity as Singapore for arbitration?\n\n\n\nDFDL in collaboration with SIAC and CMS invites you to join this insightful session where you will gain insights on arbitration trends and strategies for practicing arbitration in Thailand and Singapore. Places are limited\, so please be sure to register at your earliest opportunity for this session. \n\n\n\nSpeakers and Moderator:\n\n\n	Steven Lim: Speaker and panelist from CMS\n	Hazel Tang: Panelist from International Chamber of Commerce\, Singapore\n	Victor Smith: Panelist from Charndell\n	Nicky Balani: Panelist from Siam City Law\n	Audray Souche: Moderator from DFDL\n\n\nAgenda:\n\n\n	8.30 - 9.00 am: Registration\n	9.00 - 10.30 am: Presentation by SIAC and CMS\n	10.30 - 10.45 am: Coffee break\n	10.45 - 11.30 am: Panel discussion\n	11.30 ? 11.50 am: Q & A\n	12pm: Closing by AMCHAM\n\n\nThis event is held in partnership with DFDL Thailand and open to all AMCHAM members.
X-ALT-DESC;FMTTYPE=text/html:<p>AMCHAM Thailand and DFDL Thailand are pleased to invite you to join their session on Arbitration in Thailand and beyond.</p>\n\n<p>The session will begin with a presentation on &quot\;Arbitration - Lessons to be Learned from the Singapore Experience&quot\;\, followed by a panel discussion focusing on &quot\;Thailand Comparison ? What should Thailand Consider to Improve its Arbitration Environment?&quot\;<br />\n<br />\nThe popularity of Singapore both as a seat of arbitration and a venue for proceedings has grown at an amazing rate over the past decade\; why is this? What should Thailand do if it wishes to have the same popularity as Singapore for arbitration?<br />\n<br />\nDFDL in collaboration with SIAC and CMS invites you to join this insightful session where you will gain insights on arbitration trends and strategies for practicing arbitration in Thailand and Singapore. Places are limited\, so please be sure to register at your earliest opportunity for this session.&nbsp\;<br />\n<br />\n<strong>Speakers and Moderator:</strong></p>\n\n<ul>\n	<li>Steven Lim: Speaker and panelist from CMS</li>\n	<li>Hazel Tang: Panelist from International Chamber of Commerce\, Singapore</li>\n	<li>Victor Smith: Panelist from Charndell</li>\n	<li>Nicky Balani: Panelist from&nbsp\;Siam City Law</li>\n	<li>Audray Souche: Moderator from DFDL</li>\n</ul>\n\n<p><strong>Agenda:</strong></p>\n\n<ul>\n	<li>8.30 - 9.00 am: Registration</li>\n	<li>9.00 - 10.30 am: Presentation by SIAC and CMS</li>\n	<li>10.30 - 10.45 am: Coffee break</li>\n	<li>10.45 - 11.30 am: Panel discussion</li>\n	<li>11.30 ? 11.50 am: Q &amp\; A</li>\n	<li>12pm: Closing by AMCHAM</li>\n</ul>\n\n<p>This event is held&nbsp\;in partnership with DFDL Thailand and open to all AMCHAM members.</p>\n
LOCATION:Compass SkyView Hotel\, Sukhumvit 24 Room: Sky 1\, 6th Floor Nearest BTS: Phromphong
UID:e.3314.124
SEQUENCE:3
DTSTAMP:20260423T221201Z
URL:https://connect.amchamthailand.com/events/details/arbitration-lessons-to-be-learned-from-the-singapore-experience-124
END:VEVENT

END:VCALENDAR
