BEGIN:VCALENDAR
VERSION:2.0
PRODID:-//ChamberMaster//Event Calendar 2.0//EN
METHOD:PUBLISH
X-PUBLISHED-TTL:P3D
REFRESH-INTERVAL:P3D
CALSCALE:GREGORIAN
BEGIN:VEVENT
DTSTART;VALUE=DATE:20191105
DTEND;VALUE=DATE:20191107
TRANSP:TRANSPARENT
X-MICROSOFT-CDO-ALLDAYEVENT:TRUE
SUMMARY:APCAC: Executive Directors Retreat
DESCRIPTION:By Invitation only
X-ALT-DESC;FMTTYPE=text/html:By Invitation only
LOCATION:
UID:e.3314.409
SEQUENCE:3
DTSTAMP:20260423T090506Z
URL:https://connect.amchamthailand.com/events/details/apcac-executive-directors-retreat-409
END:VEVENT

END:VCALENDAR
