BEGIN:VCALENDAR
VERSION:2.0
PRODID:-//ChamberMaster//Event Calendar 2.0//EN
METHOD:PUBLISH
X-PUBLISHED-TTL:P3D
REFRESH-INTERVAL:P3D
CALSCALE:GREGORIAN
BEGIN:VEVENT
DTSTART;VALUE=DATE:20190304
DTEND;VALUE=DATE:20190306
TRANSP:TRANSPARENT
X-MICROSOFT-CDO-ALLDAYEVENT:TRUE
SUMMARY:APCAC Business Summit 2019
DESCRIPTION:REGISTER NOW\n\n\n\nAsia's continued rapid development has made the region the biggest engine of the global economy and has presented enormous opportunities for American multinational businesses. Against this backdrop of potentially seismic shifts in the world economic and political order\, more than 300 top business and political leaders from around Asia and the U.S. will gather in the vibrant heart of Hong Kong's financial and business district for the 2019 APCAC Business Summit on March 4-5.\n\nPlease click here for more program details.
X-ALT-DESC;FMTTYPE=text/html:<p><br />\n<a href="https://amchamhk.eventbank.com/event/10320/tickets.html"><span style="color:#000080\;"><strong>REGISTER NOW</strong></span></a><br />\n<br />\nAsia&#39\;s continued rapid development has made the region the biggest engine of the global economy and has presented enormous opportunities for American multinational businesses. Against this backdrop of potentially seismic shifts in the world economic and political order\, more than 300 top business and political leaders from around Asia and the U.S. will gather in the vibrant heart of Hong Kong&#39\;s financial and business district for the 2019 APCAC Business Summit on March 4-5.</p>\n\n<p 2019="" 300="" against="" american="" and="" apcac="" apple="" around="" asia="" backdrop="" biggest="" business="" businesses.="" continued="" cordia="" development="" district="" droid="" economic="" economy="" engine="" enormous="" financial="" for="" from="" gather="" global="" has="" heart="" hong="" in="" leaders="" made="" malgun="" march="" microsoft="" more="" ms="" multinational="" myanmar="" of="" on="" opportunities="" p="" political="" potentially="" presented="" rapid="" region="" s="" seismic="" shifts="" summit="" than="" the="" this="" top="" u.s.="" vibrant="" will="" world="">Please click <a href="https://amchamhk.eventbank.com/event/10320/home.html">here</a> for more program details.</p>\n
LOCATION:Grand Hyatt Hong Kong 1 Harbour Road Wanchai\, Hong Kong
UID:e.3314.108
SEQUENCE:3
DTSTAMP:20260423T221104Z
URL:https://connect.amchamthailand.com/events/details/apcac-business-summit-2019-108
END:VEVENT

END:VCALENDAR
