BEGIN:VCALENDAR
VERSION:2.0
PRODID:-//ChamberMaster//Event Calendar 2.0//EN
METHOD:PUBLISH
X-PUBLISHED-TTL:P3D
REFRESH-INTERVAL:P3D
CALSCALE:GREGORIAN
BEGIN:VEVENT
DTSTART:20190322T050000Z
DTEND:20190322T070000Z
X-MICROSOFT-CDO-ALLDAYEVENT:FALSE
SUMMARY:Annual General Meeting & Monthly Luncheon
DESCRIPTION:The AMCHAM Legal Committee is delighted to present Thosapone Dansuputra\, Director General of the Department of Intellectual Property (DIP)\, Ministry of Commerce\, as the honored keynote speaker at our March Monthly Luncheon.  He will be speaking on developments in intellectual property protection and enforcement in Thailand.\n\n \n\nThe Thai government is making tremendous progress in IP protection. There are legislative developments\, tireless enforcement campaign\, DIP's increased service efficiency\, and public awareness and educational activities. Thailand is no longer in the U.S. Priority Watch List.  A lot has been achieved\; still there are more challenges.\n\n \n\nThosapone's professional experiences included Permanent Mission of Thailand to the World Trade Organization in Geneva\, multilateral trade negotiations (the Uruguay Round)\, bilateral negotiations (Thailand-USA\, Thailand-EU\, Thailand-Latin American countries)\, and Committee on IP Law Development.  He holds a Bachelor's Degree in Laws from Chulalongkorn University\, and a Master's Degree in Laws from American University\, USA. \n\nThis event will also serve as the Annual General Meeting for the purposes of approving the 2018 President's report and Audited Financial Statements along with the appointment of the 2019 Auditors.
X-ALT-DESC;FMTTYPE=text/html:<p>The AMCHAM Legal Committee is delighted to present Thosapone Dansuputra\, Director General of the Department of Intellectual Property (DIP)\, Ministry of Commerce\, as the honored keynote speaker at our March Monthly Luncheon.&nbsp\; He will be speaking on developments in intellectual property protection and enforcement in Thailand.</p>\n\n<p>&nbsp\;<br />\nThe Thai government is making tremendous progress in IP protection. There are legislative developments\, tireless enforcement campaign\, DIP&rsquo\;s increased service efficiency\, and public awareness and educational activities. Thailand is no longer in the U.S. Priority Watch List.&nbsp\; A lot has been achieved\;&nbsp\;still there are more challenges.<br />\n&nbsp\;<br />\nThosapone&rsquo\;s professional experiences included Permanent Mission of Thailand to the World Trade Organization in Geneva\, multilateral trade negotiations (the Uruguay Round)\, bilateral negotiations (Thailand-USA\, Thailand-EU\, Thailand-Latin American countries)\, and Committee on IP Law Development.&nbsp\; He holds a Bachelor&rsquo\;s Degree in Laws from Chulalongkorn University\, and a Master&rsquo\;s Degree in Laws from American University\, USA.&nbsp\;</p>\n\n<p>This event will also serve as the Annual General Meeting for the purposes of approving the 2018&nbsp\;President&#39\;s report&nbsp\;and&nbsp\;Audited Financial Statements&nbsp\;along with the appointment of the 2019&nbsp\;Auditors.</p>\n
LOCATION:Hyatt Regency Bangkok Sukhumvit Sukhumvit Soi 13 (Corner of Sukhumvmit Road) BTS Nana
UID:e.3314.261
SEQUENCE:3
DTSTAMP:20260423T221207Z
URL:https://connect.amchamthailand.com/events/details/annual-general-meeting-monthly-luncheon-261
END:VEVENT

END:VCALENDAR
